BEGIN:VCALENDAR
VERSION:2.0
PRODID:-//ChamberMaster//Event Calendar 2.0//EN
METHOD:PUBLISH
X-PUBLISHED-TTL:P3D
REFRESH-INTERVAL:P3D
CALSCALE:GREGORIAN
BEGIN:VEVENT
DTSTART:20100420T200000Z
DTEND:20100420T210000Z
X-MICROSOFT-CDO-ALLDAYEVENT:FALSE
SUMMARY:Event at The Stratford at Flatirons
DESCRIPTION:COBWEBS & CRYSTAL - fascinating hotels were built between 1870-1900 across CO to showcase wealth and rival the best in the world.  Many new residents enjoyed the finer things and held to the promise of easy riches.\n\nOUTHOUSES WITH DIVERSE DESIGN - a review of design and practical aspects of these houses of necessity that graced back yards of schools\, public places and homes\, both modest and grand.\n\n\n\nPresented by the Colorado Historical Society
X-ALT-DESC;FMTTYPE=text/html:COBWEBS & CRYSTAL - fascinating hotels were built between 1870-1900 across CO to showcase wealth and rival the best in the world.  Many new residents enjoyed the finer things and held to the promise of easy riches.\n<br>OUTHOUSES WITH DIVERSE DESIGN - a review of design and practical aspects of these houses of necessity that graced back yards of schools\, public places and homes\, both modest and grand.\n<br>\n<br>Presented by the Colorado Historical Society
LOCATION:400 Summit Boulevard Broomfield\, CO 80021
UID:e.641.603
SEQUENCE:3
DTSTAMP:20260421T055644Z
URL:http://business.broomfieldchamber.com/events/details/event-at-the-stratford-at-flatirons-04-20-2010-603
END:VEVENT

END:VCALENDAR
