BEGIN:VCALENDAR
VERSION:2.0
PRODID:-//ChamberMaster//Event Calendar 2.0//EN
METHOD:PUBLISH
X-PUBLISHED-TTL:P3D
REFRESH-INTERVAL:P3D
CALSCALE:GREGORIAN
BEGIN:VEVENT
DTSTART:20100722T180000Z
DTEND:20100723T000000Z
X-MICROSOFT-CDO-ALLDAYEVENT:FALSE
SUMMARY:Event at The Thread Shed Custom Embroidery\, Inc.
DESCRIPTION:Come for our ribbon cutting and stay for the networking. We will have 3 businesses who all share our offices at our first open house to the public. We will be serving burgers and brats from noon to 2:00 pm\, but plan on keeping things going until 6:00 that evening. Please come take a tour and bring lots of business cards. We will be having a tent sale which will feature items that have been discontinued or blemished. If anyone is interested in displaying their own products\, please give us a call.
X-ALT-DESC;FMTTYPE=text/html:Come for our ribbon cutting and stay for the networking. We will have 3 businesses who all share our offices at our first open house to the public. We will be serving burgers and brats from noon to 2:00 pm\, but plan on keeping things going until 6:00 that evening. Please come take a tour and bring lots of business cards. We will be having a tent sale which will feature items that have been discontinued or blemished. If anyone is interested in displaying their own products\, please give us a call. 
LOCATION:4940 Iris St.\, Wheatridge\, CO 80033
UID:e.641.1118
SEQUENCE:3
DTSTAMP:20260420T233038Z
URL:http://business.broomfieldchamber.com/events/details/event-at-the-thread-shed-custom-embroidery-inc-07-22-2010-1118
END:VEVENT

END:VCALENDAR
