BEGIN:VCALENDAR
VERSION:2.0
PRODID:-//ChamberMaster//Event Calendar 2.0//EN
METHOD:PUBLISH
X-PUBLISHED-TTL:P3D
REFRESH-INTERVAL:P3D
CALSCALE:GREGORIAN
BEGIN:VEVENT
DTSTART:20111019T003000Z
DTEND:20111019T013000Z
X-MICROSOFT-CDO-ALLDAYEVENT:FALSE
SUMMARY:Event at The Women's Health Group\, P.C.
DESCRIPTION:DON'T BE SHY!  BE DRY!    Free educational seminar for women with incontinence issues.  Visit with a gynecologist/surgeon about the newest advances in treatment and minimally invasive surgery including the daVinci Robotic Surgical System.
X-ALT-DESC;FMTTYPE=text/html:DON&#39\;T BE SHY!&nbsp\; BE DRY!&nbsp\;&nbsp\;&nbsp\;&nbsp\;Free educational seminar for women with incontinence issues.&nbsp\; Visit with a gynecologist/surgeon about the newest advances in treatment and minimally invasive surgery including the daVinci Robotic Surgical System.
LOCATION:Westminster Rec Center\, 10455 Sheridan Road\, Westminster\, CO
UID:e.641.3080
SEQUENCE:3
DTSTAMP:20260420T022817Z
URL:http://business.broomfieldchamber.com/events/details/event-at-the-women-s-health-group-p-c-10-18-2011-3080
END:VEVENT

END:VCALENDAR
