BEGIN:VCALENDAR
VERSION:2.0
PRODID:-//ChamberMaster//Event Calendar 2.0//EN
METHOD:PUBLISH
X-PUBLISHED-TTL:P3D
REFRESH-INTERVAL:P3D
CALSCALE:GREGORIAN
BEGIN:VEVENT
DTSTART:20120225T170000Z
DTEND:20120226T000000Z
X-MICROSOFT-CDO-ALLDAYEVENT:FALSE
SUMMARY:Event at Time For You ORGANIZING
DESCRIPTION:Time For You ORGANIZING will be a vendor at the "Girls Day Out Expo". Join us for a full day of activities and onsite services. Relax\, hang out\, learn something new\, treat yourself and meet new friends.\n\n	\n\n	Most venders will offer discounts on this day only. Purchase your tickets for   off now by visiting www.girlsdayoutexpo.com
X-ALT-DESC;FMTTYPE=text/html:<p>\n	Time For You ORGANIZING will be a vendor at the &quot\;Girls Day Out Expo&quot\;. Join us for a full day of activities and onsite services. Relax\, hang out\, learn something new\, treat yourself and meet new friends.<br />\n	<br />\n	Most venders will offer <strong>discounts on this day only</strong>. Purchase your tickets for &frac12\; off now by visiting <a href="http://www.girlsdayoutexpo.com">www.girlsdayoutexpo.com</a><br />\n	&nbsp\;</p>\n
LOCATION:Sports Authority Field at Mile High
UID:e.641.3487
SEQUENCE:3
DTSTAMP:20260419T193254Z
URL:http://business.broomfieldchamber.com/events/details/event-at-time-for-you-organizing-02-25-2012-3487
END:VEVENT

END:VCALENDAR
