BEGIN:VCALENDAR
VERSION:2.0
PRODID:-//ChamberMaster//Event Calendar 2.0//EN
METHOD:PUBLISH
X-PUBLISHED-TTL:P3D
REFRESH-INTERVAL:P3D
CALSCALE:GREGORIAN
BEGIN:VEVENT
DTSTART:20100523T190000Z
DTEND:20100523T230000Z
X-MICROSOFT-CDO-ALLDAYEVENT:FALSE
SUMMARY:Event at Turquoise Mesa Winery
DESCRIPTION:We are holding our 2010 Spring Open House.Come and enjoy new wine releases\, special food parings\, and meet new wine friends. Please call (303) 653-3822 if you have questions. \n\nHope to see you there!! \nTom & Mary Joan
X-ALT-DESC;FMTTYPE=text/html:<div>We are holding our 2010 Spring Open House.</div><div>Come and enjoy new wine releases\, special food parings\, and meet new wine friends.</div><div>&nbsp\;</div><div>Please call&nbsp\;(303) 653-3822 if you have questions. <br /><br />Hope to see you there!! <br />Tom &amp\; Mary Joan <br />&nbsp\;</div>
LOCATION:Turquoise Mesa Winery555 Burbank Street\, Unit QBroomfield\, CO 80020
UID:e.641.1072
SEQUENCE:3
DTSTAMP:20260421T040634Z
URL:http://business.broomfieldchamber.com/events/details/event-at-turquoise-mesa-winery-05-23-2010-1072
END:VEVENT

END:VCALENDAR
