BEGIN:VCALENDAR
VERSION:2.0
PRODID:-//ChamberMaster//Event Calendar 2.0//EN
METHOD:PUBLISH
X-PUBLISHED-TTL:P3D
REFRESH-INTERVAL:P3D
CALSCALE:GREGORIAN
BEGIN:VEVENT
DTSTART:20120521T230000Z
DTEND:20120522T060000Z
X-MICROSOFT-CDO-ALLDAYEVENT:FALSE
SUMMARY:Event at Twin Peaks Restaurant
DESCRIPTION:TWIN PEAKS OPENING SECOND COLORADO LOCATION IN BROOMFIELD THIS MAY 21st!\n\n\n\nPopular Sports Restaurant Searching for Denver's Perkiest to become Twin Peaks Girls for second Colorado outpost.\n\n\n\nTwin Peaks will open its second Colorado location in Broomfield on May 21st! \n\n\n\nLocated at 299 East Flatiron Drive\, the new Twin Peaks will deliver what Flatiron has yearned for in a sports restaurant: crave-able and high quality comfort food\, an extensive selection of 29 degree draft beer served from a full-service bar\, a lively patio\, and the outgoing and beautiful Twin Peaks Girls. The bold hunting lodge atmosphere will be punctuated by 64 high-definition plasma televisions\, making the location the ultimate sports-watching venue.\n\n\n\n''We're tremendously excited to open our second Colorado location and bring nearly a hundred more jobs to the area's economy\,'' said Twin Peaks CEO Randy DeWitt\, who co-founded the concept in 2005 with Scott Gordon. ''This is going to be a great location for us and we can't wait to bring our scenic views to the Colorado foothills\,'' he said.\n\n\n\nJoin us for our Grand Opening Monday May 21st! \n\nCall for details 303-469-3825.
X-ALT-DESC;FMTTYPE=text/html:<span style="font-size: 16px"><strong>TWIN PEAKS OPENING SECOND COLORADO LOCATION IN BROOMFIELD THIS MAY 21st!<br />\n<br />\nPopular Sports Restaurant Searching for Denver&#39\;s Perkiest to become Twin Peaks Girls for second Colorado outpost.</strong></span><br />\n<br />\n<strong>Twin Peaks will open its second Colorado location in Broomfield on May 21st! </strong><br />\n<br />\n<span style="font-size: 14px">Located at 299 East Flatiron Drive\, the new Twin Peaks will deliver what Flatiron has yearned for in a sports restaurant: crave-able and high quality comfort food\, an extensive selection of 29 degree draft beer served from a full-service bar\, a lively patio\, and the outgoing and beautiful Twin Peaks Girls. The bold hunting lodge atmosphere will be punctuated by 64 high-definition plasma televisions\, making the location the ultimate sports-watching venue.<br />\n<br />\n<em>&#39\;&#39\;We&#39\;re tremendously excited to open our second Colorado location and bring nearly a hundred more jobs to the area&#39\;s economy\,&#39\;&#39\; said Twin Peaks CEO Randy DeWitt\, who co-founded the concept in 2005 with Scott Gordon. &#39\;&#39\;This is going to be a great location for us and we can&#39\;t wait to bring our scenic views to the Colorado foothills\,&#39\;&#39\; he said.</em></span><br />\n<br />\n<strong><span style="font-size: 20px">Join us for our Grand Opening Monday May 21st!&nbsp\;<br />\nCall for details 303-469-3825.&nbsp\; </span></strong><br />\n
LOCATION:Twin Peaks Broomfield 299 East Flatiron Drive Broomfield\, CO 80020
UID:e.641.4171
SEQUENCE:3
DTSTAMP:20260419T144455Z
URL:http://business.broomfieldchamber.com/events/details/event-at-twin-peaks-restaurant-05-21-2012-4171
END:VEVENT

END:VCALENDAR
