BEGIN:VCALENDAR
VERSION:2.0
PRODID:-//ChamberMaster//Event Calendar 2.0//EN
METHOD:PUBLISH
X-PUBLISHED-TTL:P3D
REFRESH-INTERVAL:P3D
CALSCALE:GREGORIAN
BEGIN:VEVENT
DTSTART:20100508T150000Z
DTEND:20100508T180000Z
X-MICROSOFT-CDO-ALLDAYEVENT:FALSE
SUMMARY:Event at Western Air Flight Academy
DESCRIPTION:Free Pancake Breakfast!\n\nPlease Join us for the author of Art Full Flying Mr. Micheal Maya Charles and a Pancake Breakfast to enjoy great tails of flying!
X-ALT-DESC;FMTTYPE=text/html:Free Pancake Breakfast!\n<br>Please Join us for the author of Art Full Flying Mr. Micheal Maya Charles and a Pancake Breakfast to enjoy great tails of flying!\n<br>
LOCATION:Western Air Flight Academy is located at the Rocky Mountain Metropolitan Airport 11915 Airport Way Suite 4 Broomfield\, CO 80021
UID:e.641.1059
SEQUENCE:3
DTSTAMP:20260421T023517Z
URL:http://business.broomfieldchamber.com/events/details/event-at-western-air-flight-academy-05-08-2010-1059
END:VEVENT

END:VCALENDAR
