BEGIN:VCALENDAR
VERSION:2.0
PRODID:-//ChamberMaster//Event Calendar 2.0//EN
METHOD:PUBLISH
X-PUBLISHED-TTL:P3D
REFRESH-INTERVAL:P3D
CALSCALE:GREGORIAN
BEGIN:VEVENT
DTSTART;VALUE=DATE:20100509
DTEND;VALUE=DATE:20100510
TRANSP:TRANSPARENT
X-MICROSOFT-CDO-ALLDAYEVENT:TRUE
SUMMARY:Event at Whole Foods Market
DESCRIPTION:Mother's Day Bruch- Bring Mom to Whole Foods Market for Brunch On Sunday. Menu includes Chef's Omelets to order\, Eggs Benedict with Black Forest Ham or Crab & Asparagus or Avocado\, Tomato& Spinach\, Creme Brulee French Taost Muffins\, Potatoes O'Brian\, Steel Cut Oatmeal Bar\, Seasonal Fruit\, Bacon\, Coffee\, Milk and Juice.
X-ALT-DESC;FMTTYPE=text/html:Mother's Day Bruch- Bring Mom to Whole Foods Market for Brunch On Sunday. Menu includes Chef's Omelets to order\, Eggs Benedict with Black Forest Ham or Crab & Asparagus or Avocado\, Tomato& Spinach\, Creme Brulee French Taost Muffins\, Potatoes O'Brian\, Steel Cut Oatmeal Bar\, Seasonal Fruit\, Bacon\, Coffee\, Milk and Juice.
LOCATION:Whole Foods Market- Superior 303 Marshall Rd. Superior\, Co 80027
UID:e.641.1057
SEQUENCE:3
DTSTAMP:20260421T023930Z
URL:http://business.broomfieldchamber.com/events/details/event-at-whole-foods-market-05-09-2010-1057
END:VEVENT

END:VCALENDAR
