BEGIN:VCALENDAR
VERSION:2.0
PRODID:-//ChamberMaster//Event Calendar 2.0//EN
METHOD:PUBLISH
X-PUBLISHED-TTL:P3D
REFRESH-INTERVAL:P3D
CALSCALE:GREGORIAN
BEGIN:VEVENT
DTSTART:20120516T150000Z
DTEND:20120516T200000Z
X-MICROSOFT-CDO-ALLDAYEVENT:FALSE
SUMMARY:Event of Alternative View
DESCRIPTION:Alternative View invites you to ask questions or repair those headlights and windshields. Windshield Repair and Headlight Restoration will be available at one location on May 16 from 9am-2pm. Stop by!
X-ALT-DESC;FMTTYPE=text/html:<p align="left" class="MsoNormal" style="text-align: left\; line-height: normal\; margin: 0in 0in 0pt\; mso-margin-top-alt: auto\; mso-margin-bottom-alt: auto">\n	<span style="font-family: 'Comic Sans MS'\; color: red\; font-size: 9pt\; mso-fareast-font-family: 'Times New Roman'\; mso-bidi-font-family: Arial">Alternative View invites you to ask questions or repair those headlights and windshields. Windshield Repair and Headlight Restoration will be available at one location on May 16 from 9am-2pm. Stop by!<o:p></o:p></span></p>\n
LOCATION:Mile Point Alliance 4600 S Ulster Denver\, CO 80237
UID:e.641.4164
SEQUENCE:3
DTSTAMP:20260419T144601Z
URL:http://business.broomfieldchamber.com/events/details/event-of-alternative-view-05-16-2012-4164
END:VEVENT

END:VCALENDAR
