BEGIN:VCALENDAR
VERSION:2.0
PRODID:-//ChamberMaster//Event Calendar 2.0//EN
METHOD:PUBLISH
X-PUBLISHED-TTL:P3D
REFRESH-INTERVAL:P3D
CALSCALE:GREGORIAN
BEGIN:VEVENT
DTSTART:20120517T140000Z
DTEND:20120517T213000Z
X-MICROSOFT-CDO-ALLDAYEVENT:FALSE
SUMMARY:Event of Alternative View
DESCRIPTION:Alternative View invites you to ask questions or repair those headlights and windshields. Windshield Repair and Headlight Restoration will be available at one location on May 17 from 8am-3:30pm. Stop by!
X-ALT-DESC;FMTTYPE=text/html:<p align="left" class="MsoNormal" style="text-align: left\; line-height: normal\; margin: 0in 0in 0pt\; mso-margin-top-alt: auto\; mso-margin-bottom-alt: auto">\n	<span style="color: #006400"><span style="font-family: 'Comic Sans MS'\; font-size: 9pt\; mso-fareast-font-family: 'Times New Roman'\; mso-bidi-font-family: Arial">Alternative View invites you to ask questions or repair those headlights and windshields. Windshield Repair and Headlight Restoration will be available at one location on May 17 from 8am-3:30pm. Stop by!</span></span></p>\n
LOCATION:Ten West at Westmoor 10155 Westmoor Cir. Broomfield\, CO 80021
UID:e.641.4165
SEQUENCE:3
DTSTAMP:20260419T144602Z
URL:http://business.broomfieldchamber.com/events/details/event-of-alternative-view-05-17-2012-4165
END:VEVENT

END:VCALENDAR
