BEGIN:VCALENDAR
VERSION:2.0
PRODID:-//ChamberMaster//Event Calendar 2.0//EN
METHOD:PUBLISH
X-PUBLISHED-TTL:P3D
REFRESH-INTERVAL:P3D
CALSCALE:GREGORIAN
BEGIN:VEVENT
DTSTART:20120605T150000Z
DTEND:20120605T200000Z
X-MICROSOFT-CDO-ALLDAYEVENT:FALSE
SUMMARY:Event with Alternative View
DESCRIPTION:Windshield Repair and Headlight Restoration will be available at this location on June 5\, from 9am-2pm.\n\n	Stop by!\n\n	Alternative View invites you to ask questions or repair those headlights and windshields.
X-ALT-DESC;FMTTYPE=text/html:<div style="text-align: center">\n	<span style="font-size: 14px"><span style="color: #ff0000"><span style="font-family: 'Comic Sans MS'\; mso-fareast-font-family: 'Times New Roman'\; mso-bidi-font-family: Arial">Windshield Repair and Headlight Restoration will be available at this&nbsp\;location on June 5\, from 9am-2pm.<br />\n	Stop by!<br />\n	<span style="font-family: 'Comic Sans MS'\; mso-fareast-font-family: 'Times New Roman'\; mso-bidi-font-family: Arial">Alternative View invites you to ask questions or repair those headlights and windshields.</span></span></span></span></div>\n
LOCATION:Service Magic 14023 Denver West Pkwy Golden. CO 80401
UID:e.641.4252
SEQUENCE:3
DTSTAMP:20260419T144313Z
URL:http://business.broomfieldchamber.com/events/details/event-with-alternative-view-06-05-2012-4252
END:VEVENT

END:VCALENDAR
