BEGIN:VCALENDAR
VERSION:2.0
PRODID:-//ChamberMaster//Event Calendar 2.0//EN
METHOD:PUBLISH
X-PUBLISHED-TTL:P3D
REFRESH-INTERVAL:P3D
CALSCALE:GREGORIAN
BEGIN:VEVENT
DTSTART:20120713T140000Z
DTEND:20120713T190000Z
X-MICROSOFT-CDO-ALLDAYEVENT:FALSE
SUMMARY:F.R.I.E.N.D.S. of Broomfield Golf Scramble
DESCRIPTION:Calling all golfers of all skill levels\, single or foursomes!\n\n	Enjoy a relaxing morning of golf followed by an afternoon lunch and awards after play. \n\n	\n\n	Registration closes Wednesday\, June 20.\n\n	Come out and putt for a purpose!\n\n	\n\n	Includes 18 Holes Golf\, Range Balls\, Golf Cart\, Lunch and prizes after play! \n\n	\n\n	\n\n	To register go to www.friendsofbroomfield.org or call 303-404-0123.
X-ALT-DESC;FMTTYPE=text/html:<p style="text-align: center">\n	<br />\n	<strong><span style="font-family: verdana"><span style="font-size: 16px">Calling all golfers of all skill levels\, single or foursomes!</span></span></strong></p>\n<p style="text-align: center">\n	<span style="font-family: verdana"><span style="font-size: 16px">Enjoy a relaxing morning of golf followed by an afternoon lunch and awards after play.&nbsp\;<br />\n	<br />\n	Registration closes Wednesday\, June 20.</span></span></p>\n<p style="text-align: center">\n	<span style="font-size: 18px"><em><strong><span style="font-family: verdana">Come out and putt for a purpose!</span></strong></em></span></p>\n<p class="MsoNormal" style="text-align: center\; line-height: 135%\; mso-margin-top-alt: auto\; mso-margin-bottom-alt: auto">\n	<br />\n	<span style="font-family: verdana"><span style="font-size: 16px"><b>Includes 18 Holes Golf\, Range Balls\, Golf Cart<span style="color: #666666">\, </span>Lunch and prizes after play!&nbsp\;<br />\n	<br />\n	<br />\n	To register go to www.friendsofbroomfield.org or call 303-404-0123.</b></span></span></p>\n<p class="MsoNormal" style="line-height: 135%\; mso-margin-top-alt: auto\; mso-margin-bottom-alt: auto">\n	<br />\n	<br />\n	&nbsp\;</p>\n
LOCATION:Eagle Trace Golf Course Broomfield\, CO
UID:e.641.4223
SEQUENCE:3
DTSTAMP:20260419T133027Z
URL:http://business.broomfieldchamber.com/events/details/f-r-i-e-n-d-s-of-broomfield-golf-scramble-07-13-2012-4223
END:VEVENT

END:VCALENDAR
