BEGIN:VCALENDAR
VERSION:2.0
PRODID:-//ChamberMaster//Event Calendar 2.0//EN
METHOD:PUBLISH
X-PUBLISHED-TTL:P3D
REFRESH-INTERVAL:P3D
CALSCALE:GREGORIAN
BEGIN:VEVENT
DTSTART:20120610T220000Z
DTEND:20120611T003000Z
X-MICROSOFT-CDO-ALLDAYEVENT:FALSE
SUMMARY:F.R.I.E.N.D.S. of Broomfield Ground Breaking Ceremony
DESCRIPTION:Please join us for an evening of food\, drink\, and entertainment as we break ground for our new facility in Broomfield. \n\n\n\nParking is available along 118th and 119th Avenue.  \n\n\n\nWe hope you can celebrate with us as we embark on our new journey.
X-ALT-DESC;FMTTYPE=text/html:<span style="font-size: 14px"><span style="font-family: verdana">Please join us for an evening of food\, drink\, and entertainment as we break ground for our new facility in Broomfield.&nbsp\;<br />\n<br />\nParking is available along 118th and 119th Avenue.&nbsp\;&nbsp\;<br />\n<br />\nWe hope you can celebrate with us as we embark on our new journey.&nbsp\; </span></span>
LOCATION:11851 Saulsbury Street
UID:e.641.4259
SEQUENCE:3
DTSTAMP:20260419T133038Z
URL:http://business.broomfieldchamber.com/events/details/f-r-i-e-n-d-s-of-broomfield-ground-breaking-ceremony-06-10-2012-4259
END:VEVENT

END:VCALENDAR
