BEGIN:VCALENDAR
VERSION:2.0
PRODID:-//ChamberMaster//Event Calendar 2.0//EN
METHOD:PUBLISH
X-PUBLISHED-TTL:P3D
REFRESH-INTERVAL:P3D
CALSCALE:GREGORIAN
BEGIN:VEVENT
DTSTART:20111022T220000Z
DTEND:20111022T233000Z
X-MICROSOFT-CDO-ALLDAYEVENT:FALSE
SUMMARY:Family Fall Festival & Academy of Rock Concert
DESCRIPTION:You're Invited!\n\n\n\nWhat: Family Fall Festival & Academy of Rock Concert\n\n              Pumpkin Decorating Contest! \n\n              Live Music by Altitude and Bad Plaid!\n\n              Delicious Dinner by Noodles & Company!\n\n\n\nWhere: Globalsound Studio's Performance Hall\n\n                555 Alter St. Unit 19-F \n\n                Broomfield\, CO 80020\n\n\n\nWhen: Saturday\, October 22nd\n\n            4:00 pm   5:30 pm\n\n\n\nCost: $3 per meal\n\n           $4 per pumpkin\n\n\n\nSpace is limited- Please make your reservations now!\n\n\n\n\n\nFor more details and to make reservations\, call Melissa or Sara at 303-439-7956!\n\n\n\nGlobalsound Studio Music Academy is located at:\n\n555 Alter St. Unit 19-F\n\nBroomfield\, Co 80020\n\n\n\nwww.globalsoundstudio.com
X-ALT-DESC;FMTTYPE=text/html:<span style="font-size: 14px"><span style="font-family: verdana"><span style="color: #a52a2a"><strong>You&rsquo\;re Invited!</strong></span><br />\n<br />\n<strong><span style="color: #a52a2a">What: Family Fall Festival &amp\; Academy of Rock Concert</span></strong><br />\n&nbsp\;&nbsp\;&nbsp\;&nbsp\;&nbsp\;&nbsp\;&nbsp\;&nbsp\;&nbsp\;&nbsp\;&nbsp\;&nbsp\;&bull\; Pumpkin Decorating Contest!&nbsp\;<br />\n&nbsp\;&nbsp\;&nbsp\;&nbsp\;&nbsp\;&nbsp\;&nbsp\;&nbsp\;&nbsp\;&nbsp\;&nbsp\;&nbsp\;&bull\; Live Music by Altitude and Bad Plaid!<br />\n&nbsp\;&nbsp\;&nbsp\;&nbsp\;&nbsp\;&nbsp\;&nbsp\;&nbsp\;&nbsp\;&nbsp\;&nbsp\;&nbsp\;&bull\; Delicious Dinner by Noodles &amp\; Company!<br />\n<br />\n<span style="color: #a52a2a"><strong>Where: Globalsound Studio&rsquo\;s Performance Hall</strong></span><br />\n&nbsp\;&nbsp\;&nbsp\;&nbsp\;&nbsp\;&nbsp\;&nbsp\;&nbsp\;&nbsp\;&nbsp\;&nbsp\;&nbsp\;&nbsp\;&nbsp\;&nbsp\;&nbsp\;555 Alter St. Unit 19-F&nbsp\;<br />\n&nbsp\;&nbsp\;&nbsp\;&nbsp\;&nbsp\;&nbsp\;&nbsp\;&nbsp\;&nbsp\;&nbsp\;&nbsp\;&nbsp\;&nbsp\;&nbsp\;&nbsp\;&nbsp\;Broomfield\, CO 80020<br />\n<br />\n<span style="color: #a52a2a"><strong>When: Saturday\, October 22nd</strong></span><br />\n&nbsp\;&nbsp\;&nbsp\;&nbsp\;&nbsp\;&nbsp\;&nbsp\;&nbsp\;&nbsp\;&nbsp\;&nbsp\;&nbsp\;4:00 pm &ndash\; 5:30 pm<br />\n<br />\n<span style="color: #a52a2a"><strong>Cost:</strong></span> $3 per meal<br />\n&nbsp\;&nbsp\;&nbsp\;&nbsp\;&nbsp\;&nbsp\;&nbsp\;&nbsp\;&nbsp\;&nbsp\;&nbsp\;$4 per pumpkin<br />\n<br />\n<strong>Space is limited- Please make your reservations now!</strong><br />\n<br />\n<br />\nFor more details and to make reservations\, call Melissa or Sara at 303-439-7956!<br />\n<br />\nGlobalsound Studio Music Academy is located at:<br />\n555 Alter St. Unit 19-F<br />\nBroomfield\, Co 80020<br />\n<br />\nwww.globalsoundstudio.com</span></span><br />\n
LOCATION:555 Alter St. Unit 19-F Broomfield\, CO 80020
UID:e.641.3061
SEQUENCE:3
DTSTAMP:20260420T011100Z
URL:http://business.broomfieldchamber.com/events/details/family-fall-festival-academy-of-rock-concert-10-22-2011-3061
END:VEVENT

END:VCALENDAR
