BEGIN:VCALENDAR
VERSION:2.0
PRODID:-//ChamberMaster//Event Calendar 2.0//EN
METHOD:PUBLISH
X-PUBLISHED-TTL:P3D
REFRESH-INTERVAL:P3D
CALSCALE:GREGORIAN
BEGIN:VEVENT
DTSTART:20101126T173000Z
DTEND:20101126T230000Z
X-MICROSOFT-CDO-ALLDAYEVENT:FALSE
SUMMARY:Family Holiday Portraits by Debbie Allen (pets welcome)
DESCRIPTION:Sitting fee is waived and one complimentary 5x7 will be sent to you.  Garage parking
X-ALT-DESC;FMTTYPE=text/html:Sitting fee is waived and one complimentary 5x7 will be sent to you.  Garage parking
LOCATION:Stratford at Flatirons\, 400 Summit Blvd\, Broomfield 80021
UID:e.641.1246
SEQUENCE:3
DTSTAMP:20260420T191008Z
URL:http://business.broomfieldchamber.com/events/details/family-holiday-portraits-by-debbie-allen-pets-welcome-11-26-2010-1246
END:VEVENT

END:VCALENDAR
