BEGIN:VCALENDAR
VERSION:2.0
PRODID:-//ChamberMaster//Event Calendar 2.0//EN
METHOD:PUBLISH
X-PUBLISHED-TTL:P3D
REFRESH-INTERVAL:P3D
CALSCALE:GREGORIAN
BEGIN:VEVENT
DTSTART;VALUE=DATE:20100723
DTEND;VALUE=DATE:20100726
TRANSP:TRANSPARENT
X-MICROSOFT-CDO-ALLDAYEVENT:TRUE
SUMMARY:Fill-A-Backpack Drive
DESCRIPTION:Join A Precious Child and Walmart for the Fill-A-Backpack Drive!\nVolunteers needed for either a 1-hour or a 2-hour shift during the following times: \nFriday 5pm-8pm \nSaturday 10am-8pm \nSunday 11am-6pm \nContact Carina Martin at A Precious Child to vounteer your time...303-466-4272 \nDonations also gladly accepted!
X-ALT-DESC;FMTTYPE=text/html:<div>Join A Precious Child and Walmart&nbsp\;for the&nbsp\;Fill-A-Backpack Drive!<br />Volunteers needed for either a 1-hour or a 2-hour shift during the following times: <br />Friday 5pm-8pm <br />Saturday 10am-8pm <br />Sunday 11am-6pm <br />Contact Carina Martin at A Precious Child to vounteer your time...303-466-4272 <br /><strong>Donations also gladly accepted! </strong></div>
LOCATION:The NEW Walmart Super Center at 4651 W. 121st Avenue\, Broomfield
UID:e.641.1128
SEQUENCE:3
DTSTAMP:20260420T232859Z
URL:http://business.broomfieldchamber.com/events/details/fill-a-backpack-drive-07-23-2010-1128
END:VEVENT

END:VCALENDAR
