BEGIN:VCALENDAR
VERSION:2.0
PRODID:-//ChamberMaster//Event Calendar 2.0//EN
METHOD:PUBLISH
X-PUBLISHED-TTL:P3D
REFRESH-INTERVAL:P3D
CALSCALE:GREGORIAN
BEGIN:VEVENT
DTSTART:20111216T010000Z
DTEND:20111216T031500Z
X-MICROSOFT-CDO-ALLDAYEVENT:FALSE
SUMMARY:Financial Literacy 101 at DEFY!
DESCRIPTION:DEFY! and Awakening Acupuncture present Financial Education: Financial Literacy 101\n\n\n\nAn amazing speaker will be presenting a financial class that was never offered in your school. This educational information is beneficial both personally and professionally.\n\n\n\nThe seminar is free and seats are limited.\n\n\n\nYou'll learn the 10 Principles used in the Richest Man in Babylon that could allow you to get in immediate control of your spending\, debt\, savings\, and taxation.\n\n\n\nYou'll walk away with a plan to help you get out of debt\, reduce taxes\, control spending and set up a predictable retirement plan that you control!\n\n\n\nNothing is sold.\n\n\n\nThe seminar is specifically designed to help you improve YOUR financial situation with the knowledge to\, not only stay afloat\, but also enhance your personal economics in any economy.\n\n\n\nInterested? Please RSVP by sending an email to: Trevor.Mickelson@SafeMoneyToday.info\n\nSubject: Financial Education Seminar\n\n\n\nSeats are limited and they do fill up quick...\n\n\n\nWhy you WOULDN'T want to attend:\n\n1 - You have 100% control of your finances.\n\n2 - You never fight about money with yourself\, your spouse or your children.\n\n3 - You know exactly how much money you'll have when you retire and know it will last forever.\n\n4 - You are not in debt and will never get into debt because you are part of the 1%.\n\n5 - You completely understand the IRS codes and minimize your tax liability to the fullest allowable amounts.\n\n6 - You were taught principles that have guided you to the easy street of life and therefore have no financial woes.\n\n7 - You know you won't be one of the 95% that rely on Social Security for their main source of income during retirement.\n\n8 - You were fortunate enough to have a parent or mentor that taught you principles to become financially independent.\n\n9 - You think there is nothing anyone can do to help your financial situation and learning anything would be a complete waste of time.\n\n10 - You were financially destitute\, however after taking a class you are now on track and have everything under control.\n\n\n\nIf however these items do not apply to you please RSVP by email: Trevor.Mickelson@SafeMoneyToday.info\n\nSubject: Financial Education Seminar\n\n\n\nOr Call 303-903-6416
X-ALT-DESC;FMTTYPE=text/html:DEFY! and Awakening Acupuncture present Financial Education: <span style="color: #008000"><em><strong>Financial Literacy 101</strong></em></span><br />\n<br />\nAn amazing speaker will be presenting a financial class that was never offered in your school. This educational information is beneficial both personally and professionally.<br />\n<br />\n<strong>The seminar is free and seats are limited.</strong><br />\n<br />\nYou&rsquo\;ll learn the 10 Principles used in the Richest Man in Babylon that could allow you to get in immediate control of your spending\, debt\, savings\, and taxation.<br />\n<br />\nYou&rsquo\;ll walk away with a plan to help you get out of debt\, reduce taxes\, control spending and set up a predictable retirement plan that you control!<br />\n<br />\n<strong><span style="color: #0000ff">Nothing is sold.</span></strong><br />\n<br />\nThe seminar is specifically designed to help you improve YOUR financial situation with the knowledge to\, not only stay afloat\, but also enhance your personal economics in any economy.<br />\n<br />\n<strong><em>Interested? Please RSVP by sending an email to: <span style="color: #0000ff">Trevor.Mickelson@SafeMoneyToday.info</span></em></strong><br />\n<span style="color: #0000ff"><strong>Subject: Financial Education Seminar</strong></span><br />\n<br />\nSeats are limited and they do fill up quick...<br />\n<br />\n<span style="color: #ff0000"><u><strong>Why you <em>WOULDN&#39\;T</em> want to attend:</strong></u></span><br />\n1 - You have 100% control of your finances.<br />\n2 - You never fight about money with yourself\, your spouse or your children.<br />\n3 - You know exactly how much money you&#39\;ll have when you retire and know it will last forever.<br />\n4 - You are not in debt and will never get into debt because you are part of the 1%.<br />\n5 - You completely understand the IRS codes and minimize your tax liability to the fullest allowable amounts.<br />\n6 - You were taught principles that have guided you to the easy street of life and therefore have no financial woes.<br />\n7 - You know you won&#39\;t be one of the 95% that rely on Social Security for their main source of income during retirement.<br />\n8 - You were fortunate enough to have a parent or mentor that taught you principles to become financially independent.<br />\n9 - You think there is nothing anyone can do to help your financial situation and learning anything would be a complete waste of time.<br />\n10 - You were financially destitute\, however after taking a class you are now on track and have everything under control.<br />\n<br />\n<strong>If however these items do not apply to you please RSVP by email: <span style="color: #0000ff">Trevor.Mickelson@SafeMoneyToday.info<br />\nSubject: Financial Education Seminar</span></strong><br />\n<br />\n<span style="color: #0000ff"><strong>Or Call 303-903-6416</strong></span><br />\n<br />\n<br />\n<br />\n<br />\n<br />\n<br />\n<br />\n
LOCATION:DEFY! 6850 W. 116th Ave Unit A\, Broomfield\, CO 80020
UID:e.641.3125
SEQUENCE:3
DTSTAMP:20260419T223424Z
URL:http://business.broomfieldchamber.com/events/details/financial-literacy-101-at-defy-12-15-2011-3125
END:VEVENT

END:VCALENDAR
