BEGIN:VCALENDAR
VERSION:2.0
PRODID:-//ChamberMaster//Event Calendar 2.0//EN
METHOD:PUBLISH
X-PUBLISHED-TTL:P3D
REFRESH-INTERVAL:P3D
CALSCALE:GREGORIAN
BEGIN:VEVENT
DTSTART:20120127T010000Z
DTEND:20120127T030000Z
X-MICROSOFT-CDO-ALLDAYEVENT:FALSE
SUMMARY:Financial Literacy 101 - Pat & Pat Farrell\, Shaklee
DESCRIPTION:The Problem: American people are living on the razors edge financially. People live paycheck to paycheck regardless of how much they make. A raise doesn't fix their problems because... More money in a flawed system is still flawed!\n\n\n\nHere's what we cover when presenting the Financial Literacy 101 Class\n\n\n\nKey #1: Spending\n\n\n\nWe help people find on average $300 per month they are currently wasting. We take them through a spending plan to show them in black and white where they are spending their money.\n\n\n\nKey #2: Debt\n\n\n\nPeople are paying up to 34.5% of their after tax income in interest alone... not counting principle on loans! The debt plan shows them exactly how to pay down their debt fastest\, and potentially reduce the amount of interest they will pay by 7.5%.\n\n\n\nKey #3: Taxes\n\n\n\nUp to 40% of every dollar we earn goes to taxes of some kind: income\, gas\, property\, utilities\, etc. By reducing tax to the legal minimum using our concepts\, people can dramatically increase their spendable income.\n\n\n\nKey #4: Financial Independence & Retirement Savings\n\n\n\nPeople aren't prepared for retirement or even the next minor financial problem like a broken water heater\, or new tires on their car because they aren't able to save money because of taxes\, interest and debts eating almost every dollar that we make.\n\n\n\nBy combining the Spending\, Debt and Tax plan\, Class attendees will walk away with Retirement Plan showing them how to automatically put money aside\, and know with much more certainty than they do today\, when they can retire\, and how much money they will have for the rest of their lives.\n\n\n\nPat & Pat Farrell\n\n8220 Delaware St.\n\nDenver\, CO 80221\n\n303.324.6892
X-ALT-DESC;FMTTYPE=text/html:The Problem: American people are living on the razors edge financially. People live paycheck to paycheck regardless of how much they make. A raise doesn&rsquo\;t fix their problems because... More money in a flawed system is still flawed!<br />\n<br />\n<span style="font-size:14px\;"><u><strong>Here&rsquo\;s what we cover when presenting the Financial Literacy 101 Class</strong></u></span><br />\n<br />\n<strong>Key #1: Spending</strong><br />\n<br />\nWe help people find on average $300 per month they are currently wasting. We take them through a spending plan to show them in black and white where they are spending their money.<br />\n<br />\n<strong>Key #2: Debt</strong><br />\n<br />\nPeople are paying up to 34.5% of their after tax income in interest alone... not counting principle on loans! The debt plan shows them exactly how to pay down their debt fastest\, and potentially reduce the amount of interest they will pay by 7.5%.<br />\n<br />\n<strong>Key #3: Taxes</strong><br />\n<br />\nUp to 40% of every dollar we earn goes to taxes of some kind: income\, gas\, property\, utilities\, etc. By reducing tax to the legal minimum using our concepts\, people can dramatically increase their spendable income.<br />\n<br />\n<strong>Key #4: Financial Independence &amp\; Retirement Savings</strong><br />\n<br />\nPeople aren&rsquo\;t prepared for retirement or even the next minor financial problem like a broken water heater\, or new tires on their car because they aren&rsquo\;t able to save money because of taxes\, interest and debts eating almost every dollar that we make.<br />\n<br />\nBy combining the Spending\, Debt and Tax plan\, Class attendees will walk away with Retirement Plan showing them how to automatically put money aside\, and know with much more certainty than they do today\, when they can retire\, and how much money they will have for the rest of their lives.<br />\n<br />\n<strong>Pat &amp\; Pat Farrell<br />\n8220 Delaware St.<br />\nDenver\, CO 80221<br />\n303.324.6892</strong>
LOCATION:The Best Shaklee Distributors Ever Pat & Pat Farrell 8220 Delaware St. Denver\, CO 80221
UID:e.641.3215
SEQUENCE:3
DTSTAMP:20260419T210125Z
URL:http://business.broomfieldchamber.com/events/details/financial-literacy-101-pat-pat-farrell-shaklee-01-26-2012-3215
END:VEVENT

END:VCALENDAR
