BEGIN:VCALENDAR
VERSION:2.0
PRODID:-//ChamberMaster//Event Calendar 2.0//EN
METHOD:PUBLISH
X-PUBLISHED-TTL:P3D
REFRESH-INTERVAL:P3D
CALSCALE:GREGORIAN
BEGIN:VEVENT
DTSTART:20120131T200000Z
DTEND:20120131T220000Z
X-MICROSOFT-CDO-ALLDAYEVENT:FALSE
SUMMARY:Financial Literacy 101 - Summit Band & Trust
DESCRIPTION:The Problem: American people are living on the razors edge financially. People live paycheck to paycheck regardless of how much they make. A raise doesn't fix their problems because... More money in a flawed system is still flawed!\n\n	\n\n	Here's what we cover when presenting the Financial Literacy 101 Class\n\n	 \n\n	Key #1: Spending\n\n	\n\n	We help people find on average $300 per month they are currently wasting. We take them through a spending plan to show them in black and white where they are spending their money.\n\n	\n\n	Key #2: Debt\n\n	\n\n	People are paying up to 34.5% of their after tax income in interest alone... not counting principle on loans! The debt plan shows them exactly how to pay down their debt fastest\, and potentially reduce the amount of interest they will pay by 7.5%.\n\n	\n\n	Key #3: Taxes\n\n	\n\n	Up to 40% of every dollar we earn goes to taxes of some kind: income\, gas\, property\, utilities\, etc. By reducing tax to the legal minimum using our concepts\, people can dramatically increase their spendable income.\n\n	\n\n	Key #4: Financial Independence & Retirement Savings\n\n	\n\n	People aren't prepared for retirement or even the next minor financial problem like a broken water heater\, or new tires on their car because they aren't able to save money because of taxes\, interest and debts eating almost every dollar that we make.\n\n	\n\n	By combining the Spending\, Debt and Tax plan\, Class attendees will walk away with Retirement Plan showing them how to automatically put money aside\, and know with much more certainty than they do today\, when they can retire\, and how much money they will have for the rest of their lives.\n\n	\n\n	Summit Bank & Trust\n\n	2002 East Coalton Road\n\n	Broomfield\, CO 80027\n\n	(303) 466-1147
X-ALT-DESC;FMTTYPE=text/html:<p>\n	<strong>The Problem: American people are living on the razors edge financially. People live paycheck to paycheck regardless of how much they make. A raise doesn&rsquo\;t fix their problems because... More money in a flawed system is still flawed!<br />\n	<br />\n	<span style="font-size: 16px"><u>Here&rsquo\;s what we cover when presenting the Financial Literacy 101 Class</u></span></strong><br />\n	&nbsp\;</p>\n<p>\n	<strong>Key #1: Spending</strong><br />\n	<br />\n	We help people find on average $300 per month they are currently wasting. We take them through a spending plan to show them in black and white where they are spending their money.</p>\n<p>\n	<br />\n	<strong>Key #2: Debt</strong><br />\n	<br />\n	People are paying up to 34.5% of their after tax income in interest alone... not counting principle on loans! The debt plan shows them exactly how to pay down their debt fastest\, and potentially reduce the amount of interest they will pay by 7.5%.</p>\n<p>\n	<br />\n	<strong>Key #3: Taxes</strong><br />\n	<br />\n	Up to 40% of every dollar we earn goes to taxes of some kind: income\, gas\, property\, utilities\, etc. By reducing tax to the legal minimum using our concepts\, people can dramatically increase their spendable income.</p>\n<p>\n	<br />\n	<strong>Key #4: Financial Independence &amp\; Retirement Savings</strong><br />\n	<br />\n	People aren&rsquo\;t prepared for retirement or even the next minor financial problem like a broken water heater\, or new tires on their car because they aren&rsquo\;t able to save money because of taxes\, interest and debts eating almost every dollar that we make.</p>\n<p>\n	<br />\n	By combining the Spending\, Debt and Tax plan\, Class attendees will walk away with Retirement Plan showing them how to automatically put money aside\, and know with much more certainty than they do today\, when they can retire\, and how much money they will have for the rest of their lives.<br />\n	<br />\n	Summit Bank &amp\; Trust<br />\n	2002 East Coalton Road<br />\n	Broomfield\, CO 80027<br />\n	(303) 466-1147</p>\n
LOCATION:Summit Bank & Trust 2002 East Coalton Road Broomfield\, CO 80027 (303) 466-1147
UID:e.641.3222
SEQUENCE:3
DTSTAMP:20260419T210004Z
URL:http://business.broomfieldchamber.com/events/details/financial-literacy-101-summit-band-trust-01-31-2012-3222
END:VEVENT

END:VCALENDAR
