BEGIN:VCALENDAR
VERSION:2.0
PRODID:-//ChamberMaster//Event Calendar 2.0//EN
METHOD:PUBLISH
X-PUBLISHED-TTL:P3D
REFRESH-INTERVAL:P3D
CALSCALE:GREGORIAN
BEGIN:VEVENT
DTSTART:20120421T153000Z
DTEND:20120421T173000Z
X-MICROSOFT-CDO-ALLDAYEVENT:FALSE
SUMMARY:Financial Literacy 101 - Summit Band & Trust
DESCRIPTION:Register @ www.TandHfa.com/Calendar\n\n$30/person or $50/Couple\n\n\n\nIt's on Saturday morning! There is no reason not to change your direction and become financially independent OR accelerate your journey.\n\n\n\nThe Problem: American people are living on the razors edge financially. People live paycheck to paycheck regardless of how much they make. A raise doesn't fix their problems because... More money in a flawed system is still flawed!\n\n\n\nHere's what we cover when presenting the... Financial Literacy 101 Class\n\n\n\nKey #1: Spending\n\n\n\nWe help people find on average $300 per month they are currently wasting. We take them through a spending plan to show them in black and white where they are spending their money.\n\n\n\nKey #2: Debt\n\n\n\nPeople are paying up to 34.5% of their after tax income in interest alone... not counting principle on loans! The debt plan shows them exactly how to pay down their debt fastest\, and potentially reduce the amount of interest they will pay by 7.5%.\n\n\n\nKey #3: Taxes\n\n\n\nUp to 40% of every dollar we earn goes to taxes of some kind: income\, gas\, property\, utilities\, etc. By reducing tax to the legal minimum using our concepts\, people can dramatically increase their spendable income.\n\n\n\nKey #4: Financial Independence & Retirement Savings\n\n\n\nPeople aren't prepared for retirement or even the next minor financial problem like a broken water heater\, or new tires on their car because they aren't able to save money because of taxes\, interest and debts eating almost every dollar that we make.\n\n\n\nBy combining the Spending\, Debt and Tax plan\, Class attendees will walk away with Retirement Plan showing them how to automatically put money aside\, and know with much more certainty than they do today\, when they can retire\, and how much money they will have for the rest of their lives.\n\n\n\nSummit Bank & Trust\n\n2002 East Coalton Road\n\nSuperior\, CO 80027\n\n(303) 466-1147
X-ALT-DESC;FMTTYPE=text/html:Register @ www.TandHfa.com/Calendar<br />\n$30/person or $50/Couple<br />\n<br />\nIt&#39\;s on Saturday morning! There is no reason not to change your direction and become financially independent OR accelerate your journey.<br />\n<br />\nThe Problem: American people are living on the razors edge financially. People live paycheck to paycheck regardless of how much they make. A raise doesn&rsquo\;t fix their problems because... More money in a flawed system is still flawed!<br />\n<br />\nHere&rsquo\;s what we cover when presenting the... Financial Literacy 101 Class<br />\n<br />\nKey #1: Spending<br />\n<br />\nWe help people find on average $300 per month they are currently wasting. We take them through a spending plan to show them in black and white where they are spending their money.<br />\n<br />\nKey #2: Debt<br />\n<br />\nPeople are paying up to 34.5% of their after tax income in interest alone... not counting principle on loans! The debt plan shows them exactly how to pay down their debt fastest\, and potentially reduce the amount of interest they will pay by 7.5%.<br />\n<br />\nKey #3: Taxes<br />\n<br />\nUp to 40% of every dollar we earn goes to taxes of some kind: income\, gas\, property\, utilities\, etc. By reducing tax to the legal minimum using our concepts\, people can dramatically increase their spendable income.<br />\n<br />\nKey #4: Financial Independence &amp\; Retirement Savings<br />\n<br />\nPeople aren&rsquo\;t prepared for retirement or even the next minor financial problem like a broken water heater\, or new tires on their car because they aren&rsquo\;t able to save money because of taxes\, interest and debts eating almost every dollar that we make.<br />\n<br />\nBy combining the Spending\, Debt and Tax plan\, Class attendees will walk away with Retirement Plan showing them how to automatically put money aside\, and know with much more certainty than they do today\, when they can retire\, and how much money they will have for the rest of their lives.<br />\n<br />\nSummit Bank &amp\; Trust<br />\n2002 East Coalton Road<br />\nSuperior\, CO 80027<br />\n(303) 466-1147
LOCATION:Summit Bank & Trust 2002 East Coalton Road Superior\, CO 80027
UID:e.641.3926
SEQUENCE:3
DTSTAMP:20260419T175636Z
URL:http://business.broomfieldchamber.com/events/details/financial-literacy-101-summit-band-trust-04-21-2012-3926
END:VEVENT

END:VCALENDAR
