BEGIN:VCALENDAR
VERSION:2.0
PRODID:-//ChamberMaster//Event Calendar 2.0//EN
METHOD:PUBLISH
X-PUBLISHED-TTL:P3D
REFRESH-INTERVAL:P3D
CALSCALE:GREGORIAN
BEGIN:VEVENT
DTSTART:20120217T010000Z
DTEND:20120217T030000Z
X-MICROSOFT-CDO-ALLDAYEVENT:FALSE
SUMMARY:Financial Literacy 101 - WellAdjusted Chiropractic
DESCRIPTION:The Problem: American people are living on the razors edge financially. People live paycheck to paycheck regardless of how much they make. A raise doesn't fix their problems because... More money in a flawed system is still flawed!\n\n\n\nHere's what we cover when presenting the Financial Literacy 101 Class\n\n\n\nKey #1: Spending\n\n\n\nWe help people find on average $300 per month they are currently wasting. We take them through a spending plan to show them in black and white where they are spending their money.\n\n\n\nKey #2: Debt\n\n\n\nPeople are paying up to 34.5% of their after tax income in interest alone... not counting principle on loans! The debt plan shows them exactly how to pay down their debt fastest\, and potentially reduce the amount of interest they will pay by 7.5%.\n\n\n\nKey #3: Taxes\n\n\n\nUp to 40% of every dollar we earn goes to taxes of some kind: income\, gas\, property\, utilities\, etc. By reducing tax to the legal minimum using our concepts\, people can dramatically increase their spendable income.\n\n\n\nKey #4: Financial Independence & Retirement Savings\n\n\n\nPeople aren't prepared for retirement or even the next minor financial problem like a broken water heater\, or new tires on their car because they aren't able to save money because of taxes\, interest and debts eating almost every dollar that we make.\n\n\n\nBy combining the Spending\, Debt and Tax plan\, Class attendees will walk away with Retirement Plan showing them how to automatically put money aside\, and know with much more certainty than they do today\, when they can retire\, and how much money they will have for the rest of their lives.\n\n\n\nRegister at www.TandHfa.com
X-ALT-DESC;FMTTYPE=text/html:The Problem: American people are living on the razors edge financially. People live paycheck to paycheck regardless of how much they make. A raise doesn&rsquo\;t fix their problems because... More money in a flawed system is still flawed!<br />\n<br />\nHere&rsquo\;s what we cover when presenting the Financial Literacy 101 Class<br />\n<br />\nKey #1: Spending<br />\n<br />\nWe help people find on average $300 per month they are currently wasting. We take them through a spending plan to show them in black and white where they are spending their money.<br />\n<br />\nKey #2: Debt<br />\n<br />\nPeople are paying up to 34.5% of their after tax income in interest alone... not counting principle on loans! The debt plan shows them exactly how to pay down their debt fastest\, and potentially reduce the amount of interest they will pay by 7.5%.<br />\n<br />\nKey #3: Taxes<br />\n<br />\nUp to 40% of every dollar we earn goes to taxes of some kind: income\, gas\, property\, utilities\, etc. By reducing tax to the legal minimum using our concepts\, people can dramatically increase their spendable income.<br />\n<br />\nKey #4: Financial Independence &amp\; Retirement Savings<br />\n<br />\nPeople aren&rsquo\;t prepared for retirement or even the next minor financial problem like a broken water heater\, or new tires on their car because they aren&rsquo\;t able to save money because of taxes\, interest and debts eating almost every dollar that we make.<br />\n<br />\nBy combining the Spending\, Debt and Tax plan\, Class attendees will walk away with Retirement Plan showing them how to automatically put money aside\, and know with much more certainty than they do today\, when they can retire\, and how much money they will have for the rest of their lives.<br />\n<br />\nRegister at www.TandHfa.com
LOCATION:Well Adjusted 2150 W. 6th Ave Unit J Broomfield\, CO 80020 303-447-3900
UID:e.641.3481
SEQUENCE:3
DTSTAMP:20260419T193452Z
URL:http://business.broomfieldchamber.com/events/details/financial-literacy-101-welladjusted-chiropractic-02-16-2012-3481
END:VEVENT

END:VCALENDAR
