BEGIN:VCALENDAR
VERSION:2.0
PRODID:-//ChamberMaster//Event Calendar 2.0//EN
METHOD:PUBLISH
X-PUBLISHED-TTL:P3D
REFRESH-INTERVAL:P3D
CALSCALE:GREGORIAN
BEGIN:VEVENT
DTSTART:20120725T000000Z
DTEND:20120725T020000Z
X-MICROSOFT-CDO-ALLDAYEVENT:FALSE
SUMMARY:Financial Wellness 101 - WellAdjusted
DESCRIPTION:Register @ www.TandHfa.com Admission = $39.95\n\nWe're not a Financial Planners.\n\nWe're not Money Managers.\n\nWe're Teachers...\n\nDid you get to attend a wealth building class in grade school? How about in high school? What about in college?\n\nWait!\n\n\n\nIt was never offered to you?\n\nThat's right\, it wasn't offered because this class didn't exist.\n\nWhich is a huge problem!\n\nWell\, here is your chance to change everything and gain the knowledge that you were never offered in school.\n\n\n\nHere is what our graduates have been saying\n\nLisa W. - Louisville\n\nAfter your class\, my husband and I finally created a spreadsheet of all recent past expenses and a goal for future spending. This week has been amazing. I've easily let go of 90% of my stress around money AND because this freed up so much energy\, I had the most billable hours and new clients in one week as I've had in three+ years of self-employment. I'm recommending you to everyone I know. Clarity is freedom for sure!!! Take this class and do the homework!\n\n\n\nPhilip I. - Brighton\n\nWent to the Financial Education class given by Trevor Mickelson of Tortoise & Hare Financial Affairs. This was a very informative and very education class. Learned a lot of how to get out of debt using the money I already make. What Trevor teaches in his class is priceless. Once these tricks and tactics are put into place anyone can become financially free in a few short years instead of the 20 - 30 years your creditors would like you to think.\n\n\n\nStephanie M.   Broomfield\n\nI learned so much more about financial literacy by attending one of Trevor's classes (and I'm a banker so I consider myself pretty well versed). Thanks to his information I'm paying off my credit card and applying that "power down" payment to my car so I can become debt free! Thanks for the great experience!\n\n\n\nStuart D.   Broomfield\n\nAwesome class Trevor you gave us a great jumping off point to get our financial health strong. I really appreciate you taking the time to give away such valuable information.\n\n\n\nWellAdjusted\n\n2150 W. 6th Ave. 'Unit J' Broomfield\, CO 80020
X-ALT-DESC;FMTTYPE=text/html:Register @ www.TandHfa.com Admission = $39.95<br />\nWe&#39\;re not a Financial Planners.<br />\nWe&#39\;re not Money Managers.<br />\nWe&#39\;re Teachers...<br />\nDid you get to attend a wealth building class in grade school? How about in high school? What about in college?<br />\nWait!<br />\n<br />\nIt was never offered to you?<br />\nThat&rsquo\;s right\, it wasn&#39\;t offered because this class didn&rsquo\;t exist.<br />\nWhich is a huge problem!<br />\nWell\, here is your chance to change everything and gain the knowledge that you were never offered in school.<br />\n<br />\nHere is what our graduates have been saying<br />\nLisa W. - Louisville<br />\nAfter your class\, my husband and I finally created a spreadsheet of all recent past expenses and a goal for future spending. This week has been amazing. I&#39\;ve easily let go of 90% of my stress around money AND because this freed up so much energy\, I had the most billable hours and new clients in one week as I&#39\;ve had in three+ years of self-employment. I&#39\;m recommending you to everyone I know. Clarity is freedom for sure!!! Take this class and do the homework!<br />\n<br />\nPhilip I. - Brighton<br />\nWent to the Financial Education class given by Trevor Mickelson of Tortoise &amp\; Hare Financial Affairs. This was a very informative and very education class. Learned a lot of how to get out of debt using the money I already make. What Trevor teaches in his class is priceless. Once these tricks and tactics are put into place anyone can become financially free in a few short years instead of the 20 - 30 years your creditors would like you to think.<br />\n<br />\nStephanie M. &ndash\; Broomfield<br />\nI learned so much more about financial literacy by attending one of Trevor&#39\;s classes (and I&#39\;m a banker so I consider myself pretty well versed). Thanks to his information I&#39\;m paying off my credit card and applying that &quot\;power down&quot\; payment to my car so I can become debt free! Thanks for the great experience!<br />\n<br />\nStuart D. &ndash\; Broomfield<br />\nAwesome class Trevor you gave us a great jumping off point to get our financial health strong. I really appreciate you taking the time to give away such valuable information.<br />\n<br />\nWellAdjusted<br />\n2150 W. 6th Ave. &#39\;Unit J&#39\; Broomfield\, CO 80020
LOCATION:WellAdjusted 2150 W. 6th Ave. 'Unit J' Broomfield\, CO 80020
UID:e.641.4330
SEQUENCE:3
DTSTAMP:20260419T115521Z
URL:http://business.broomfieldchamber.com/events/details/financial-wellness-101-welladjusted-07-24-2012-4330
END:VEVENT

END:VCALENDAR
