BEGIN:VCALENDAR
VERSION:2.0
PRODID:-//ChamberMaster//Event Calendar 2.0//EN
METHOD:PUBLISH
X-PUBLISHED-TTL:P3D
REFRESH-INTERVAL:P3D
CALSCALE:GREGORIAN
BEGIN:VEVENT
DTSTART;VALUE=DATE:20110818
DTEND;VALUE=DATE:20110822
TRANSP:TRANSPARENT
X-MICROSOFT-CDO-ALLDAYEVENT:TRUE
SUMMARY:Find your fit pant event
DESCRIPTION:The Kick off for this Event is August 18th from 4 to 8pm.\n\nReceive an additional 10% off when you mention this ad on August 18th.\n\n\n\n\n\nNot just to celebrate our amazing new pant program but to Show Off our new WONDERFUL Fall Collection.\n\nOffers are buy one pant\, get one 50% off.\n\nHope to see you there.
X-ALT-DESC;FMTTYPE=text/html:<span style="background-color: #ffffff">The Kick off for this Event is August 18th from 4 to 8pm.<br />\nReceive an additional 10% off when you mention this ad on August 18th.<br />\n<br />\n<br />\nNot just to celebrate our amazing new pant program but to Show Off our new WONDERFUL Fall Collection.<br />\nOffers are buy one pant\,&nbsp\;get one 50% off.<br />\nHope to see you there.</span><br />\n
LOCATION:Flatirons mall
UID:e.641.2881
SEQUENCE:3
DTSTAMP:20260420T050859Z
URL:http://business.broomfieldchamber.com/events/details/find-your-fit-pant-event-08-18-2011-2881
END:VEVENT

END:VCALENDAR
