BEGIN:VCALENDAR
VERSION:2.0
PRODID:-//ChamberMaster//Event Calendar 2.0//EN
METHOD:PUBLISH
X-PUBLISHED-TTL:P3D
REFRESH-INTERVAL:P3D
CALSCALE:GREGORIAN
BEGIN:VEVENT
DTSTART:20120616T150000Z
DTEND:20120616T180000Z
X-MICROSOFT-CDO-ALLDAYEVENT:FALSE
SUMMARY:First National Banks 3rd Annual Shred It Day!
DESCRIPTION:Shred It\, Neighbor! \n\n	\n\n	First National Bank of Colorado will be holding its 3nd Annual Shred Day on Saturday June 16th\, from 9am to 12pm.\n\n	\n\n	First National Bank will be partnering with the Broomfield Police Department and FISH of Broomfield\, Broomfield County's local food bank.\n\n	\n\n	Bring any canned goods to support FISH and we will shred up to 3 boxes or bags for free!
X-ALT-DESC;FMTTYPE=text/html:<h1>\n	<strong><span style="color: #008000"><span style="background-color: #ffffff">Shred It\, Neighbor!&nbsp\;</span></span></strong><br />\n	<br />\n	<strong><span style="color: #2f4f4f"><span style="font-size: 18px"><span style="font-family: verdana">First National Bank of Colorado will be holding its <em>3nd Annual Shred Day</em> on Saturday June 16th\, from 9am to 12pm.</span></span></span></strong><br />\n	<br />\n	<span style="color: #2f4f4f"><span style="font-size: 18px"><span style="font-family: verdana">First National Bank will be partnering with the Broomfield Police Department and FISH of Broomfield\, Broomfield County&#39\;s local food bank.<br />\n	<br />\n	Bring any canned goods to support FISH and we will shred up to 3 boxes or bags for free!</span></span></span><br />\n	<br />\n	&nbsp\;</h1>\n
LOCATION:First National Bank 12009 Sheridan Blvd\, Broomfield\, CO 80020
UID:e.641.3962
SEQUENCE:3
DTSTAMP:20260419T144624Z
URL:http://business.broomfieldchamber.com/events/details/first-national-banks-3rd-annual-shred-it-day-06-16-2012-3962
END:VEVENT

END:VCALENDAR
