BEGIN:VCALENDAR
VERSION:2.0
PRODID:-//ChamberMaster//Event Calendar 2.0//EN
METHOD:PUBLISH
X-PUBLISHED-TTL:P3D
REFRESH-INTERVAL:P3D
CALSCALE:GREGORIAN
BEGIN:VEVENT
DTSTART:20110204T173000Z
DTEND:20110204T183000Z
X-MICROSOFT-CDO-ALLDAYEVENT:FALSE
SUMMARY:Flu Fighters FREE & FUN Class
DESCRIPTION:Learn tips to fight flu and colds at this FREE class!\n\n\n\nKids will be fascinated to see germs glow under a special light as they practice hand-washing. Fun for the entire family! \n\n\n\nPresenter: Anita Schumann\, RN\n\n\n\nRegister at: http://www.healthylearningpaths.org/?page=classregistration
X-ALT-DESC;FMTTYPE=text/html:<span style="font-size: 14px">Learn tips to fight flu and colds at this FREE class!</span><br />\n<br />\n<span style="color: #008000"><strong><span style="font-size: 16px">Kids will be fascinated to see germs glow under a special light as they practice hand-washing. Fun for the entire family! </span></strong></span><br />\n<br />\nPresenter: Anita Schumann\, RN<br />\n<br />\nRegister at: http://www.healthylearningpaths.org/?page=classregistration
LOCATION:Mamie Doud Eisenhower Library\, 3 Community Park Rd\, Broomfield
UID:e.641.1314
SEQUENCE:3
DTSTAMP:20260420T142026Z
URL:http://business.broomfieldchamber.com/events/details/flu-fighters-free-fun-class-02-04-2011-1314
END:VEVENT

END:VCALENDAR
