BEGIN:VCALENDAR
VERSION:2.0
PRODID:-//ChamberMaster//Event Calendar 2.0//EN
METHOD:PUBLISH
X-PUBLISHED-TTL:P3D
REFRESH-INTERVAL:P3D
CALSCALE:GREGORIAN
BEGIN:VEVENT
DTSTART:20111101T180000Z
DTEND:20111118T190000Z
X-MICROSOFT-CDO-ALLDAYEVENT:FALSE
SUMMARY:FOOD DRIVE ar Robins Automitive and 1/2 OFF!
DESCRIPTION:Bring in 20 non-perishable food items and receive 1/2 OFF on diagnostics!
X-ALT-DESC;FMTTYPE=text/html:<p>\n	<span style="font-size: 16px"><strong>Bring in 20 non-perishable food items and receive 1/2&nbsp\;OFF on diagnostics!</strong></span></p>\n
LOCATION:Robins Automotive 2245 W 92nd Ave. Federal Heights
UID:e.641.3099
SEQUENCE:3
DTSTAMP:20260419T234748Z
URL:http://business.broomfieldchamber.com/events/details/food-drive-ar-robins-automitive-and-1-2-off-11-01-2011-3099
END:VEVENT

END:VCALENDAR
