BEGIN:VCALENDAR
VERSION:2.0
PRODID:-//ChamberMaster//Event Calendar 2.0//EN
METHOD:PUBLISH
X-PUBLISHED-TTL:P3D
REFRESH-INTERVAL:P3D
CALSCALE:GREGORIAN
BEGIN:VEVENT
DTSTART:20120415T150000Z
DTEND:20120415T180000Z
X-MICROSOFT-CDO-ALLDAYEVENT:FALSE
SUMMARY:Frank Shorter RACE4Kids' Health
DESCRIPTION:
X-ALT-DESC;FMTTYPE=text/html:
LOCATION:1ST BANK CENTER\, 11450 Broomfield Lane\, Broomfield\, CO
UID:e.641.3127
SEQUENCE:3
DTSTAMP:20260419T162635Z
URL:http://business.broomfieldchamber.com/events/details/frank-shorter-race4kids-health-04-15-2012-3127
END:VEVENT

END:VCALENDAR
