BEGIN:VCALENDAR
VERSION:2.0
PRODID:-//ChamberMaster//Event Calendar 2.0//EN
METHOD:PUBLISH
X-PUBLISHED-TTL:P3D
REFRESH-INTERVAL:P3D
CALSCALE:GREGORIAN
BEGIN:VEVENT
DTSTART:20110715T170000Z
DTEND:20110715T190000Z
X-MICROSOFT-CDO-ALLDAYEVENT:FALSE
SUMMARY:Free BBQ at Elevations Credit Union~Broomfield
DESCRIPTION:Join Elevations Credit Union at our Broomfield/Westminster branch for a free BBQ cookout!  You'll have a chance to win a $50 Visa Gift Card or an iPad2\, and enjoy music and prizes from KOSI 101 (11 a.m.   1 p.m.) While you're there\, be sure to submit a limerick for a chance to win a trip to Limerick\, Ireland or $5\,000!
X-ALT-DESC;FMTTYPE=text/html:Join Elevations Credit Union at our Broomfield/Westminster branch for a <span style="color: #b22222">free BBQ cookout</span>!&nbsp\; You&rsquo\;ll have a chance to <span style="color: #b22222">win a $50 Visa Gift Card or an iPad2</span>\, and enjoy music and prizes from KOSI 101 (11 a.m. &ndash\; 1 p.m.) While you&rsquo\;re there\, be sure to submit a limerick for a chance to <span style="color: #b22222">win a trip to Limerick\, Ireland or $5\,000</span>!
LOCATION:4750 W 120th Ave\, Suite 700 Broomfield\, CO 80020
UID:e.641.2730
SEQUENCE:3
DTSTAMP:20260420T063625Z
URL:http://business.broomfieldchamber.com/events/details/free-bbq-at-elevations-credit-union-broomfield-07-15-2011-2730
END:VEVENT

END:VCALENDAR
