BEGIN:VCALENDAR
VERSION:2.0
PRODID:-//ChamberMaster//Event Calendar 2.0//EN
METHOD:PUBLISH
X-PUBLISHED-TTL:P3D
REFRESH-INTERVAL:P3D
CALSCALE:GREGORIAN
BEGIN:VEVENT
DTSTART;VALUE=DATE:20111124
DTEND;VALUE=DATE:20111125
TRANSP:TRANSPARENT
X-MICROSOFT-CDO-ALLDAYEVENT:TRUE
SUMMARY:Free Boot Camp at Fitness Together
DESCRIPTION:Join Fitness Together and Courage is Change for a free Boot Camp Thanksgiving morning. This will give everyone in the community an opportunity to get a great positive start to turkey day. Free coffee and muffins will be provided. This event is open to anyone that would like to join us
X-ALT-DESC;FMTTYPE=text/html:Join Fitness Together and Courage is Change for a free Boot Camp Thanksgiving morning. This will give everyone in the community an opportunity to get a great positive start to turkey day. Free coffee and muffins will be provided. This event is open to anyone that would like to join us
LOCATION:Heritage Park softball field. Heritage park is located off of Cherry st. in Louisville\, CO
UID:e.641.3112
SEQUENCE:3
DTSTAMP:20260420T010653Z
URL:http://business.broomfieldchamber.com/events/details/free-boot-camp-at-fitness-together-11-24-2011-3112
END:VEVENT

END:VCALENDAR
