BEGIN:VCALENDAR
VERSION:2.0
PRODID:-//ChamberMaster//Event Calendar 2.0//EN
METHOD:PUBLISH
X-PUBLISHED-TTL:P3D
REFRESH-INTERVAL:P3D
CALSCALE:GREGORIAN
BEGIN:VEVENT
DTSTART:20120421T150000Z
DTEND:20120421T200000Z
X-MICROSOFT-CDO-ALLDAYEVENT:FALSE
SUMMARY:FREE Community Shred It Event
DESCRIPTION:FREE Community Shred it Event with the City and County of Broomfield.\n\nBring any personal information you want to get rid of\, limit 3 copy boxes per person.
X-ALT-DESC;FMTTYPE=text/html:<span style="font-size: 16px"><span style="font-family: verdana"><strong>FREE Community Shred it Event with the City and County of Broomfield.</strong><br />\nBring any personal information you want to get rid of\, limit 3 copy boxes per person.</span></span><br />\n<br />\n
LOCATION:One DesCombes Drive Broomfield\, CO 80020
UID:e.641.4004
SEQUENCE:3
DTSTAMP:20260419T162050Z
URL:http://business.broomfieldchamber.com/events/details/free-community-shred-it-event-04-21-2012-4004
END:VEVENT

END:VCALENDAR
