BEGIN:VCALENDAR
VERSION:2.0
PRODID:-//ChamberMaster//Event Calendar 2.0//EN
METHOD:PUBLISH
X-PUBLISHED-TTL:P3D
REFRESH-INTERVAL:P3D
CALSCALE:GREGORIAN
BEGIN:VEVENT
DTSTART:20100706T200000Z
DTEND:20100706T224500Z
X-MICROSOFT-CDO-ALLDAYEVENT:FALSE
SUMMARY:Free Hearing Screening First Tuesday of Every Month
DESCRIPTION:Are you having trouble hearing? You're not alone. Almost one-third of Americans over age 65 and about half of those over age 75 are hard of hearing. \n\nFortunately\, treatment for hearing problems has never been better. Even the slightest hearing loss can be treated. \n\nDon't take chances with your hearing. If you think that you have even a slight hearing problem\, find out for sure by taking advantage of a free screening for hearing loss from a certified audiologist.
X-ALT-DESC;FMTTYPE=text/html:<div>Are you having trouble hearing? You're not alone. Almost one-third of Americans over age 65 and about half of those over age 75 are hard of hearing. <br /><br />Fortunately\, treatment for hearing problems has never been better. Even the slightest hearing loss can be treated. <br /><br />Don't take chances with your hearing. If you think that you have even a slight hearing problem\, find out for sure by taking advantage of a free screening for hearing loss from a certified audiologist.</div>
LOCATION:Buffalo Ridge Medical Center\, 16677 Lowell Boulevard in Broomfield.
UID:e.641.1107
SEQUENCE:3
DTSTAMP:20260420T233311Z
URL:http://business.broomfieldchamber.com/events/details/free-hearing-screening-first-tuesday-of-every-month-07-06-2010-1107
END:VEVENT

END:VCALENDAR
