BEGIN:VCALENDAR
VERSION:2.0
PRODID:-//ChamberMaster//Event Calendar 2.0//EN
METHOD:PUBLISH
X-PUBLISHED-TTL:P3D
REFRESH-INTERVAL:P3D
CALSCALE:GREGORIAN
BEGIN:VEVENT
DTSTART:20100828T170000Z
DTEND:20100829T230000Z
X-MICROSOFT-CDO-ALLDAYEVENT:FALSE
SUMMARY:Free Hospitality Seating at Western Air Flight Academy during the Air Show
DESCRIPTION:Free Hospitality Seating at Western Air Flight Academy during the Air Show Broomfield Chamber Members ONLY  \nThe first 50 Chamber members to sign up with us will have a seat in our Great Room with snacks and cold drinks. This is for either Saturday or Sunday. Please RSVP by Friday\, August 27\, 2010.
X-ALT-DESC;FMTTYPE=text/html:<div><div><strong><font color="#003366">Free Hospitality Seating at Western Air Flight Academy during the Air Show </font></strong><div>Broomfield Chamber Members ONLY&gt\; <br />The first 50 Chamber members to sign up with us will have a seat in our Great Room with snacks and cold drinks. This is for either Saturday or Sunday. Please RSVP by Friday\, August 27\, 2010.</div></div></div><div>&nbsp\;</div><div>&nbsp\;</div><div><div>&nbsp\;</div></div>
LOCATION:11915 Airport Way\, Suite #4
UID:e.641.1173
SEQUENCE:3
DTSTAMP:20260420T220107Z
URL:http://business.broomfieldchamber.com/events/details/free-hospitality-seating-at-western-air-flight-academy-during-the-air-show-08-28-2010-1173
END:VEVENT

END:VCALENDAR
