BEGIN:VCALENDAR
VERSION:2.0
PRODID:-//ChamberMaster//Event Calendar 2.0//EN
METHOD:PUBLISH
X-PUBLISHED-TTL:P3D
REFRESH-INTERVAL:P3D
CALSCALE:GREGORIAN
BEGIN:VEVENT
DTSTART:20100915T210000Z
DTEND:20100916T020000Z
X-MICROSOFT-CDO-ALLDAYEVENT:FALSE
SUMMARY:FREE Ice Skating at 1stBANK Center
DESCRIPTION:Peak Entertainment will offer free public ice skating from 3 to 8 p.m. on Wednesday\, Sept. 15\, 2010 at the 1STBANK Center\, 11450 Broomfield Lane. A limited number of ice skates will be available for use\, feel free to bring your own.
X-ALT-DESC;FMTTYPE=text/html:Peak Entertainment will offer free public ice skating from 3 to 8 p.m. on Wednesday\, Sept. 15\, 2010 at the 1STBANK Center\, 11450 Broomfield Lane. A limited number of ice skates will be available for use\, feel free to bring your own.
LOCATION:1STBANK Center\, 11450 Broomfield Lane
UID:e.641.1186
SEQUENCE:3
DTSTAMP:20260420T202646Z
URL:http://business.broomfieldchamber.com/events/details/free-ice-skating-at-1stbank-center-09-15-2010-1186
END:VEVENT

END:VCALENDAR
