BEGIN:VCALENDAR
VERSION:2.0
PRODID:-//ChamberMaster//Event Calendar 2.0//EN
METHOD:PUBLISH
X-PUBLISHED-TTL:P3D
REFRESH-INTERVAL:P3D
CALSCALE:GREGORIAN
BEGIN:VEVENT
DTSTART:20110409T143000Z
DTEND:20110409T173000Z
X-MICROSOFT-CDO-ALLDAYEVENT:FALSE
SUMMARY:FREE Oral Cancer Screening
DESCRIPTION:"We are exicted when we can save a tooth...Imagine how we feel when we can save a life!" \n\nOne person dies every hour of every day\, in the United Stes from Oral Cancer. When caught in the early stages\, this disease is highly survivable. To help create awareness on the improtance of having annual screenings\, Amherst Park Family Dental will be doing FREE Oral Cancer exams on Staurda\, April 9th. This pain-free screening will invovle a visual and tactile exam\, as well as a Velescope screenign. Velescope is a diagnostic tool that uses a special wave length of blue light to identify suspicious tissues in the mouth before they can be seen visually.\n\n\n\nDr. Halee Lesch along with her team will be there to do complete Oral Cancer Exams and to answer your questions. This event is open to the public\, you do not need to be a patient in our practice recieve this FREE service. Call 303-452-2800 if you have further questions.\n\n\n\n*We are located in the Quail Ridge Shopping Center\, on the east side of King Soopers behind Jack-in-the-Box.
X-ALT-DESC;FMTTYPE=text/html:<span style="font-size: 14px"><strong><span style="font-family: comic sans ms">&quot\;We are exicted when we can save a tooth...Imagine how we feel when we can save a life!&quot\; </span></strong></span><br />\nOne person dies every hour of every day\, in the United Stes from Oral Cancer. When caught in the early stages\, this disease is highly survivable. To help create awareness on the improtance of having annual screenings\, Amherst Park Family Dental will be doing FREE Oral Cancer exams on Staurda\, April 9th. This pain-free screening will invovle a visual and tactile exam\, as well as a Velescope screenign. Velescope is a diagnostic tool that uses a special wave length of blue light to identify suspicious tissues in the mouth before they can be seen visually.<br />\n<br />\nDr. Halee Lesch along with her team will be there to do complete Oral Cancer Exams and to answer your questions. This event is open to the public\, you do not need to be a patient in our practice recieve this FREE service. Call 303-452-2800 if you have further questions.<br />\n<br />\n*We are located in the Quail Ridge Shopping Center\, on the east side of King Soopers behind Jack-in-the-Box.
LOCATION:2055 W. 136th Avenue\, Suite 136 Broomfield\, CO 80023
UID:e.641.1410
SEQUENCE:3
DTSTAMP:20260420T093458Z
URL:http://business.broomfieldchamber.com/events/details/free-oral-cancer-screening-04-09-2011-1410
END:VEVENT

END:VCALENDAR
