BEGIN:VCALENDAR
VERSION:2.0
PRODID:-//ChamberMaster//Event Calendar 2.0//EN
METHOD:PUBLISH
X-PUBLISHED-TTL:P3D
REFRESH-INTERVAL:P3D
CALSCALE:GREGORIAN
BEGIN:VEVENT
DTSTART:20110702T140000Z
DTEND:20110702T163000Z
X-MICROSOFT-CDO-ALLDAYEVENT:FALSE
SUMMARY:Free Pancake Breakfast to benefit the Armed Forces Tribute Gardens
DESCRIPTION:Please join us for a free pancake breakfast to benefit the Westminster Armed Forces Tribute Gardens.  This is coming up soon on Saturday 7/2 from 8 AM till 10:30 AM at the Westminster Branch of Valley Bank & Trust located at 11145 Sheridan Blvd.  There will be great food\, a visit from Scooter- the bank mascot and a celebration to pay honor to those who have served our great country.  \n\n	 \n\n	Come see us and start your holiday weekend off right as we recognize our country's independence.
X-ALT-DESC;FMTTYPE=text/html:<p class="MsoNormal" style="margin: 0in 0in 0pt">\n	<font size="3"><font color="#000000"><font face="Calibri">Please join us for a free pancake breakfast to benefit the Westminster Armed Forces Tribute Gardens.<span style="mso-spacerun: yes">&nbsp\; </span>This is coming up soon on Saturday 7/2 from 8 AM till 10:30 AM at the Westminster Branch of Valley Bank &amp\; Trust located at 11145 Sheridan Blvd.<span style="mso-spacerun: yes">&nbsp\; </span>There will be great food\, a visit from Scooter- the bank mascot and a celebration to pay honor to those who have served our great country.<span style="mso-spacerun: yes">&nbsp\; </span></font></font></font></p>\n<p class="MsoNormal" style="margin: 0in 0in 0pt">\n	<o:p><font color="#000000" face="Calibri" size="3">&nbsp\;</font></o:p></p>\n<p class="MsoNormal" style="margin: 0in 0in 0pt">\n	<font size="3"><font color="#000000"><font face="Calibri">Come&nbsp\;see us and start your holiday weekend off right as we recognize our country&rsquo\;s independence.<span style="mso-spacerun: yes">&nbsp\; </span></font></font></font></p>\n
LOCATION:Valley Bank & Trust - 11145 Sheridan Blvd
UID:e.641.1713
SEQUENCE:3
DTSTAMP:20260420T051444Z
URL:http://business.broomfieldchamber.com/events/details/free-pancake-breakfast-to-benefit-the-armed-forces-tribute-gardens-07-02-2011-1713
END:VEVENT

END:VCALENDAR
