BEGIN:VCALENDAR
VERSION:2.0
PRODID:-//ChamberMaster//Event Calendar 2.0//EN
METHOD:PUBLISH
X-PUBLISHED-TTL:P3D
REFRESH-INTERVAL:P3D
CALSCALE:GREGORIAN
BEGIN:VEVENT
DTSTART:20110430T160000Z
DTEND:20110430T180000Z
X-MICROSOFT-CDO-ALLDAYEVENT:FALSE
SUMMARY:Free Real Estate Law Seminar at Cooper\, Tanis & Cohen\, P.C.
DESCRIPTION:Free Real Estate Law Seminar - Practice pointers on leasing real property.  Topics included\; leases and lease provisions and much more.  Free handouts on eviction procedures.  Questions welcome
X-ALT-DESC;FMTTYPE=text/html:Free Real Estate Law Seminar - Practice pointers on leasing real property.  Topics included\; leases and lease provisions and much more.  Free handouts on eviction procedures.  Questions welcome
LOCATION:Law Firm of Cooper\, Tanis & Cohen - 42 Garden Center\, Broomfield CO 80020
UID:e.641.1431
SEQUENCE:3
DTSTAMP:20260420T093636Z
URL:http://business.broomfieldchamber.com/events/details/free-real-estate-law-seminar-at-cooper-tanis-cohen-p-c-04-30-2011-1431
END:VEVENT

END:VCALENDAR
