BEGIN:VCALENDAR
VERSION:2.0
PRODID:-//ChamberMaster//Event Calendar 2.0//EN
METHOD:PUBLISH
X-PUBLISHED-TTL:P3D
REFRESH-INTERVAL:P3D
CALSCALE:GREGORIAN
BEGIN:VEVENT
DTSTART:20120505T010000Z
DTEND:20120505T030000Z
X-MICROSOFT-CDO-ALLDAYEVENT:FALSE
SUMMARY:Free Summer Concert Series
DESCRIPTION:Cultural Affairs presents the Free Summer Concert Series\, Wednesdays on the Waterfront at 7pm at the Amphitheatre in Community Park in Broomfield beginning on June 13. This year's line up will include:\n\n\n\nThe Last Flight Out\n\nJune 13\n\nTHE LAST FLIGHT OUT distinguish themselves from the pack by successfully merging Blues\, Country\, Rock\, and Funk\, resulting in multi-generational appeal... a crossover mix that spans the acoustic intimacy of Sarah McLachlin\, the blues sassiness of Bonnie Raitt\, and the rock explosiveness of Bob Seger. They are regularly invited to perform at premier events across Colorado's Front Range. Their live show is energetic and their radio-friendly originals bring audiences a fresh new listening experience with the familiarity of putting on their favorite old blue jeans.
X-ALT-DESC;FMTTYPE=text/html:<br />\n<span style="font-size: 14px"><span style="font-family: verdana">Cultural Affairs presents the Free Summer Concert Series\, Wednesdays on the Waterfront at 7pm at the Amphitheatre in Community Park in Broomfield beginning on June 13. This year&rsquo\;s line up will include:<br />\n<br />\n<strong>The Last Flight Out</strong><br />\nJune 13<br />\nTHE LAST FLIGHT OUT distinguish themselves from the pack by successfully merging Blues\, Country\, Rock\, and Funk\, resulting in multi-generational appeal... a crossover mix that spans the acoustic intimacy of Sarah McLachlin\, the blues sassiness of Bonnie Raitt\, and the rock explosiveness of Bob Seger. They are regularly invited to perform at premier events across Colorado&rsquo\;s Front Range. Their live show is energetic and their radio-friendly originals bring audiences a fresh new listening experience with the familiarity of putting on their favorite old blue jeans.</span></span><br />\n<br />\n
LOCATION:Broomfield Amphitheater Community Park
UID:e.641.4152
SEQUENCE:3
DTSTAMP:20260419T144623Z
URL:http://business.broomfieldchamber.com/events/details/free-summer-concert-series-05-04-2012-4152
END:VEVENT

END:VCALENDAR
