BEGIN:VCALENDAR
VERSION:2.0
PRODID:-//ChamberMaster//Event Calendar 2.0//EN
METHOD:PUBLISH
X-PUBLISHED-TTL:P3D
REFRESH-INTERVAL:P3D
CALSCALE:GREGORIAN
BEGIN:VEVENT
DTSTART:20120621T010000Z
DTEND:20120621T030000Z
X-MICROSOFT-CDO-ALLDAYEVENT:FALSE
SUMMARY:Free Summer Concert Series
DESCRIPTION:Cultural Affairs presents the Free Summer Concert Series\, Wednesdays on the Waterfront at 7pm at the Amphitheatre in Community Park in Broomfield beginning on June 13. This year's line up will include:\n\n\n\nSouls Squared\n\nJune 20\n\nSouls Squared is an acoustic group performing in the Denver metro and surrounding areas. Their influences include many popular artists of rock\, country\, and blues.
X-ALT-DESC;FMTTYPE=text/html:Cultural Affairs presents the Free Summer Concert Series\, Wednesdays on the Waterfront at 7pm at the Amphitheatre in Community Park in Broomfield beginning on June 13. This year&rsquo\;s line up will include:<br />\n<br />\nSouls Squared<br />\nJune 20<br />\nSouls Squared is an acoustic group performing in the Denver metro and surrounding areas. Their influences include many popular artists of rock\, country\, and blues.<br />\n
LOCATION:Broomfield Amphitheater in Community Park
UID:e.641.4153
SEQUENCE:3
DTSTAMP:20260419T133158Z
URL:http://business.broomfieldchamber.com/events/details/free-summer-concert-series-06-20-2012-4153
END:VEVENT

END:VCALENDAR
