BEGIN:VCALENDAR
VERSION:2.0
PRODID:-//ChamberMaster//Event Calendar 2.0//EN
METHOD:PUBLISH
X-PUBLISHED-TTL:P3D
REFRESH-INTERVAL:P3D
CALSCALE:GREGORIAN
BEGIN:VEVENT
DTSTART:20110623T010000Z
DTEND:20110728T030000Z
X-MICROSOFT-CDO-ALLDAYEVENT:FALSE
SUMMARY:Free Summer Concert Series
DESCRIPTION:Cultural Affairs presents the Free Summer Concert Series\, Wednesdays on the Waterfront at 7pm at the Amphitheatre in Community Park in Broomfield beginning on June 15. This year's line up will include:\n\n	 \n\n	 \n\n	Academy of Rock opens for Broomstock Band Competition Winner\n\n	June 15\n\n	 \n\n	Knight Groove-Funk/Blues\n\n	June 22\n\n	 \n\n	Lisa Bell-Jazz\n\n	June 29\n\n	With the release of her emotionally compelling third album Dancing On The Moon\, Lisa Bell continues her creative evolution as a multi-talented singer/songwriter\, expressing stories that appeal to listeners universally with messages of hope and change.\n\n	 \n\n	Spring Creek-Bluegrass\n\n	July 6\n\n	Spring Creek\, the award-winning Colorado bluegrass band\, is breaking out into the national scene with a passion that's winning over fans everywhere they go. These musical road warriors have held tight to the bluegrass tradition\, emulating the first generation greats while presenting a youthful\, fresh sound.\n\n	 \n\n	Los Bohemios-Latin Rhythms\n\n	July 13\n\n	Los Bohemios is an acoustic ensemble composed of some of the best musicians in Colorado. They play danceable Cuban Son\, Salsa\, and Boleros (ballads in Spanish with Afro-Cuban rhythms).  They also cover other Latin styles such as Bossa Nova\, Latin Rock\, Latin Jazz\, and even Mexican Mariachi repertoire.  Many people are discovering and enjoying\, thanks to Los Bohemios\, the wonderful music of Boleros and Los Panchos (a worldwide music phenomenon of the 40's and 50's) and the wonderful cultural heritage of Cuban and Latin American music.  In brief\, timeless\, fun and beautiful music performed by top notch musicians!\n\n	 \n\n	TC and the Domestic Engineers-High Energy Dance\n\n	July 20\n\n	All About Fun!   We guarantee you will dance\, laugh and have a great time! Great fun for all ages. \n\n	 \n\n	The Modniks-Classic Rock\n\n	July 27\n\n	The Modniks play Rock Music of the 60s inspired by the British Invasion and California Sounds in the style and energy of the era. The band is made up of experienced musicians with a wealth of background and expertise.\n\n	 \n\n	 \n\n	For more information contact the box office at 720-887-2371.
X-ALT-DESC;FMTTYPE=text/html:<p class="MsoNormal" style="margin: 0pt\; mso-layout-grid-align: none">\n	<font size="3"><font color="#000000"><span style="font-family: arial">Cultural Affairs presents the Free Summer Concert Series\, <b style="mso-bidi-font-weight: normal"><i style="mso-bidi-font-style: normal">Wednesdays on the Waterfront </i></b>at </span><st1:time hour="19" minute="0"><span style="font-family: arial">7pm</span></st1:time><span style="font-family: arial"> at the Amphitheatre in </span><st1:place><st1:placename><span style="font-family: arial">Community</span></st1:placename><span style="font-family: arial"> </span><st1:placetype><span style="font-family: arial">Park</span></st1:placetype></st1:place><span style="font-family: arial"> in </span><st1:city><st1:place><span style="font-family: arial">Broomfield</span></st1:place></st1:city><span style="font-family: arial"> beginning on June 15. This year&rsquo\;s line up will include:<o:p></o:p></span></font></font></p>\n<p class="MsoNormal" style="margin: 0pt\; mso-layout-grid-align: none">\n	<span style="font-family: arial\; mso-bidi-font-size: 12.0pt\; mso-bidi-font-weight: bold\; mso-bidi-font-style: italic"><o:p><font color="#000000" size="3">&nbsp\;</font></o:p></span></p>\n<p align="left" class="normal-p" style="text-align: left\; margin: 0pt">\n	<span style="font-family: arial"><o:p><font color="#000000" size="3">&nbsp\;</font></o:p></span></p>\n<p align="left" class="normal-p" style="text-align: left\; margin: 0pt">\n	<font size="3"><font color="#000000"><st1:place><st1:placetype><b style="mso-bidi-font-weight: normal"><span style="font-family: arial">Academy</span></b></st1:placetype><b style="mso-bidi-font-weight: normal"><span style="font-family: arial"> of </span></b><st1:placename><b style="mso-bidi-font-weight: normal"><span style="font-family: arial">Rock</span></b></st1:placename></st1:place><b style="mso-bidi-font-weight: normal"><span style="font-family: arial"> opens for Broomstock Band Competition Winner<o:p></o:p></span></b></font></font></p>\n<p align="left" class="normal-p" style="text-align: left\; margin: 0pt">\n	<span style="font-family: arial"><font size="3"><font color="#000000">June 15</font></font></span><br />\n	&nbsp\;</p>\n<p align="left" class="normal-p" style="text-align: left\; margin: 0pt">\n	<span style="font-family: arial"><font size="3"><font color="#000000"><b style="mso-bidi-font-weight: normal"><span style="font-family: arial">Knight Groove</span></b><span style="font-family: arial">-Funk/Blues<o:p></o:p></span></font></font></span></p>\n<p align="left" class="normal-p" style="text-align: left\; margin: 0pt">\n	<span style="font-family: arial"><font size="3"><font color="#000000"><span style="font-family: arial">June 22</span></font></font></span><br />\n	&nbsp\;</p>\n<p align="left" class="normal-p" style="text-align: left\; margin: 0pt">\n	<span style="font-family: arial"><font size="3"><font color="#000000"><b style="mso-bidi-font-weight: normal"><span style="font-family: arial">Lisa Bell</span></b><span style="font-family: arial">-Jazz<o:p></o:p></span></font></font></span></p>\n<p align="left" class="normal-p" style="text-align: left\; margin: 0pt">\n	<span style="font-family: arial"><font size="3"><font color="#000000"><span style="font-family: arial">June 29<o:p></o:p></span></font></font></span></p>\n<p align="left" class="normal-p" style="text-align: left\; margin: 0pt">\n	<span style="font-family: arial"><font size="3"><font color="#000000"><span style="font-family: arial">With the release of her emotionally compelling third album Dancing On The Moon\, Lisa Bell continues her creative evolution as a multi-talented singer/songwriter\, expressing stories that appeal to listeners universally with messages of hope and change.<o:p></o:p></span></font></font></span></p>\n<p align="left" class="normal-p" style="text-align: left\; margin: 0pt">\n	<span style="font-family: arial"><font size="3"><font color="#000000"><span style="font-family: arial"><o:p>&nbsp\;</o:p></span></font></font></span></p>\n<p align="left" class="normal-p" style="text-align: left\; margin: 0pt">\n	<span style="font-family: arial"><font size="3"><font color="#000000"><b style="mso-bidi-font-weight: normal"><span style="font-family: arial">Spring Creek</span></b><span style="font-family: arial">-Bluegrass<o:p></o:p></span></font></font></span></p>\n<p align="left" class="normal-p" style="text-align: left\; margin: 0pt">\n	<span style="font-family: arial"><font size="3"><font color="#000000"><span style="font-family: arial">July 6<o:p></o:p></span></font></font></span></p>\n<p align="left" class="normal-p" style="text-align: left\; margin: 0pt">\n	<span style="font-family: arial"><font size="3"><font color="#000000"><span style="font-family: arial">Spring Creek\, the award-winning </span><st1:state><st1:place><span style="font-family: arial">Colorado</span></st1:place></st1:state><span style="font-family: arial"> bluegrass band\, is breaking out into the national scene with a passion that&#39\;s winning over fans everywhere they go. These musical road warriors have held tight to the bluegrass tradition\, emulating the first generation greats while presenting a youthful\, fresh sound.<o:p></o:p></span></font></font></span></p>\n<p align="left" class="normal-p" style="text-align: left\; margin: 0pt">\n	<span style="font-family: arial"><font size="3"><font color="#000000"><span style="font-family: arial"><o:p>&nbsp\;</o:p></span></font></font></span></p>\n<p align="left" class="normal-p" style="text-align: left\; margin: 0pt">\n	<span style="font-family: arial"><font size="3"><font color="#000000"><b style="mso-bidi-font-weight: normal"><span style="font-family: arial">Los Bohemios</span></b><span style="font-family: arial">-Latin Rhythms<o:p></o:p></span></font></font></span></p>\n<p align="left" class="normal-p" style="text-align: left\; margin: 0pt">\n	<span style="font-family: arial"><font size="3"><font color="#000000"><span style="font-family: arial">July 13<o:p></o:p></span></font></font></span></p>\n<p align="left" class="normal-p" style="text-align: left\; margin: 0pt">\n	<span style="font-family: arial"><font size="3"><font color="#000000"><span style="font-family: arial\; font-size: 12.5pt">Los Bohemios is an acoustic ensemble composed of some of the best musicians in </span><st1:state><st1:place><span style="font-family: arial\; font-size: 12.5pt">Colorado</span></st1:place></st1:state><span style="font-family: arial\; font-size: 12.5pt">. They play danceable Cuban Son\, Salsa\, and Boleros (ballads in Spanish with Afro-Cuban rhythms).&nbsp\; They also cover other Latin styles such as Bossa Nova\, Latin Rock\, Latin Jazz\, and even Mexican Mariachi repertoire.&nbsp\; Many people are discovering and enjoying\, thanks to Los Bohemios\, the wonderful music of Boleros and Los Panchos (a worldwide music phenomenon of the 40&rsquo\;s and 50&rsquo\;s) and the wonderful cultural heritage of Cuban and Latin American music.&nbsp\; In brief\, timeless\, fun and beautiful music performed by top notch musicians!</span><span style="font-family: arial"><o:p></o:p></span></font></font></span></p>\n<p align="left" class="normal-p" style="text-align: left\; margin: 0pt">\n	<span style="font-family: arial"><font size="3"><font color="#000000"><span style="font-family: arial"><o:p>&nbsp\;</o:p></span></font></font></span></p>\n<p align="left" class="normal-p" style="text-align: left\; margin: 0pt">\n	<span style="font-family: arial"><font size="3"><font color="#000000"><b style="mso-bidi-font-weight: normal"><span style="font-family: arial">TC and the Domestic Engineers</span></b><span style="font-family: arial">-High Energy Dance<o:p></o:p></span></font></font></span></p>\n<p align="left" class="normal-p" style="text-align: left\; margin: 0pt">\n	<span style="font-family: arial"><font size="3"><font color="#000000"><span style="font-family: arial">July 20<o:p></o:p></span></font></font></span></p>\n<p align="left" class="normal-p" style="text-align: left\; margin: 0pt">\n	<span style="font-family: arial"><font size="3"><font color="#000000"><span style="font-family: arial\; color: windowtext">All About Fun!&nbsp\;&nbsp\; We guarantee you will dance\,&nbsp\;laugh and have a great time! Great fun for all ages. <o:p></o:p></span></font></font></span></p>\n<p align="left" class="normal-p" style="text-align: left\; margin: 0pt">\n	<span style="font-family: arial"><font size="3"><font color="#000000"><span style="font-family: arial"><o:p>&nbsp\;</o:p></span></font></font></span></p>\n<p align="left" class="normal-p" style="text-align: left\; margin: 0pt">\n	<span style="font-family: arial"><font size="3"><font color="#000000"><b style="mso-bidi-font-weight: normal"><span style="font-family: arial">The Modniks</span></b><span style="font-family: arial">-Classic Rock<o:p></o:p></span></font></font></span></p>\n<p align="left" class="normal-p" style="text-align: left\; margin: 0pt">\n	<span style="font-family: arial"><font size="3"><font color="#000000"><span style="font-family: arial">July 27<o:p></o:p></span></font></font></span></p>\n<p class="paragraphstyle" style="line-height: 12pt\; margin: 0pt">\n	<span style="font-family: arial"><font size="3"><font color="#000000"><span lang="EN" style="font-style: normal\; font-family: arial\; font-size: 12pt\; mso-bidi-font-style: italic\; mso-ansi-language: en">The Modniks play Rock Music of the 60s inspired by the British Invasion and California Sounds in the style and energy of the era.&nbsp\;The band is made up of experienced musicians with a wealth of background and expertise.<o:p></o:p></span></font></font></span></p>\n<p align="left" class="normal-p" style="text-align: left\; margin: 0pt">\n	<span style="font-family: arial"><font size="3"><font color="#000000"><span style="font-family: arial"><o:p>&nbsp\;</o:p></span></font></font></span></p>\n<p class="MsoNormal" style="margin: 0pt\; mso-layout-grid-align: none">\n	<span style="font-family: arial"><font size="3"><font color="#000000"><span style="font-family: arial\; color: black\; mso-bidi-font-size: 12.0pt"><o:p>&nbsp\;</o:p></span></font></font></span></p>\n<p class="MsoNormal" style="margin: 0pt">\n	<span style="font-family: arial"><font size="3"><font color="#000000"><span style="font-family: arial\; color: black\; mso-bidi-font-size: 12.0pt">For more information contact the box office at </span><st1:phone o_x003a_ls="trans" phonenumber="$6887$$$"><span style="font-family: arial\; color: black\; mso-bidi-font-size: 12.0pt">720-887-2371</span></st1:phone><span style="font-family: arial\; color: black\; mso-bidi-font-size: 12.0pt">.<o:p></o:p></span></font></font></span></p>
LOCATION:Broomfield Amphitheatre
UID:e.641.1467
SEQUENCE:3
DTSTAMP:20260420T051000Z
URL:http://business.broomfieldchamber.com/events/details/free-summer-concert-series-06-22-2011-1467
END:VEVENT

END:VCALENDAR
