BEGIN:VCALENDAR
VERSION:2.0
PRODID:-//ChamberMaster//Event Calendar 2.0//EN
METHOD:PUBLISH
X-PUBLISHED-TTL:P3D
REFRESH-INTERVAL:P3D
CALSCALE:GREGORIAN
BEGIN:VEVENT
DTSTART:20110617T150000Z
DTEND:20110620T000000Z
X-MICROSOFT-CDO-ALLDAYEVENT:FALSE
SUMMARY:Free Wax at European Wax Center
DESCRIPTION:FREE Wax to All Guests of European Wax Center\n\nIn preparation for our store opening on June 22\, we will be offering free wax services to all guests as part of our employee training.  All of our body wax services are complimentary on June 17\, 18 & 19  as our employees learn our computer system\, guest check-in process\, and the unique properties of our Comfort Wax system.  Call us at 303-464-0600 or go online to www.waxcenter.com/locations to join our Grand Opening free wax guest list.
X-ALT-DESC;FMTTYPE=text/html:<span style="font-size:18px\;"><span style="color:#ff0000\;">FREE Wax</span> to All Guests of European Wax Center</span><br />\n<span style="font-size:14px\;">In preparation for our store opening on June 22\, we will be offering free wax services to all guests as part of our employee training.&nbsp\; All of our body wax services are complimentary on June 17\, 18 &amp\; 19&nbsp\; as our employees learn our computer system\, guest check-in process\, and the unique properties of our Comfort Wax system.&nbsp\; Call us at 303-464-0600 or go online to www.waxcenter.com/locations to join our Grand Opening free wax guest list.</span>
LOCATION:10442 Town Center Drive\, #500 Westminster\, Co 80021 On the main street in the Shops at Walnut Creek - Hwy 36 and Church Ranch Blvd
UID:e.641.1485
SEQUENCE:3
DTSTAMP:20260420T063814Z
URL:http://business.broomfieldchamber.com/events/details/free-wax-at-european-wax-center-06-17-2011-1485
END:VEVENT

END:VCALENDAR
