BEGIN:VCALENDAR
VERSION:2.0
PRODID:-//ChamberMaster//Event Calendar 2.0//EN
METHOD:PUBLISH
X-PUBLISHED-TTL:P3D
REFRESH-INTERVAL:P3D
CALSCALE:GREGORIAN
BEGIN:VEVENT
DTSTART;VALUE=DATE:20110110
DTEND;VALUE=DATE:20110116
TRANSP:TRANSPARENT
X-MICROSOFT-CDO-ALLDAYEVENT:TRUE
SUMMARY:Free Week at Ballet Nouveau Colorado
DESCRIPTION:Free Week of Classes: JAN. 10-15\n\n\n\nCome try out any adult or children's class. Learn more about our exciting classes. We're sure you'll be hooked! Attend & Receive $10 off your registration fee.*\n\n*New Students only
X-ALT-DESC;FMTTYPE=text/html:Free Week of Classes: JAN. 10-15\n<br>\n<br>Come try out any adult or children's class. Learn more about our exciting classes. We're sure you'll be hooked! Attend &amp\; Receive $10 off your registration fee.*\n<br>*New Students only
LOCATION:3001 Industrial Lane\, #12 Broomfield\, CO 80020
UID:e.641.1271
SEQUENCE:3
DTSTAMP:20260420T161906Z
URL:http://business.broomfieldchamber.com/events/details/free-week-at-ballet-nouveau-colorado-01-10-2011-1271
END:VEVENT

END:VCALENDAR
