BEGIN:VCALENDAR
VERSION:2.0
PRODID:-//ChamberMaster//Event Calendar 2.0//EN
METHOD:PUBLISH
X-PUBLISHED-TTL:P3D
REFRESH-INTERVAL:P3D
CALSCALE:GREGORIAN
BEGIN:VEVENT
DTSTART:20110906T220000Z
DTEND:20110912T220000Z
X-MICROSOFT-CDO-ALLDAYEVENT:FALSE
SUMMARY:Free Week of Dance for Kids at Ballet Nouveau Colorado
DESCRIPTION:The School of Ballet Nouveau Colorado is hosting Kids Free Week for toddler through teens.\n\nCome try out all our variety of classes for an entire week  free. We have many specialized classes to suit a variety of needs\, interests\, abilities and ages.\n\n\n\nClass sizes are limited\, so RSVP early.\n\n\n\nTo learn more details about our free week\, our class offerings and to RSVP go to www.bncdance.com/school/free-weeks or email info@bncdance.com
X-ALT-DESC;FMTTYPE=text/html:<span style="font-size: 14px"><span style="font-family: verdana">The School of Ballet Nouveau Colorado is hosting <strong>Kids Free Week</strong> for toddler through teens.<br />\nCome try out all our variety of classes for an entire week&hellip\; free. We have many specialized classes to suit a variety of needs\, interests\, abilities and ages.<br />\n<br />\nClass sizes are limited\, so RSVP early.<br />\n<br />\n<strong>To learn more details about our free week\, our class offerings and to RSVP go to www.bncdance.com/school/free-weeks or email info@bncdance.com</strong></span></span><br />\n
LOCATION:3001 Industrial Lane\, #12 Broomfield\, Colorado 80020
UID:e.641.2896
SEQUENCE:3
DTSTAMP:20260420T021611Z
URL:http://business.broomfieldchamber.com/events/details/free-week-of-dance-for-kids-at-ballet-nouveau-colorado-09-06-2011-2896
END:VEVENT

END:VCALENDAR
