BEGIN:VCALENDAR
VERSION:2.0
PRODID:-//ChamberMaster//Event Calendar 2.0//EN
METHOD:PUBLISH
X-PUBLISHED-TTL:P3D
REFRESH-INTERVAL:P3D
CALSCALE:GREGORIAN
BEGIN:VEVENT
DTSTART;VALUE=DATE:20110819
DTEND;VALUE=DATE:20110820
TRANSP:TRANSPARENT
X-MICROSOFT-CDO-ALLDAYEVENT:TRUE
SUMMARY:Friday TGIF Leads Group
DESCRIPTION:We meet for 1 hour every Friday at Runway Grill at 8:00am.\n\n	PLEASE JOIN US...Members and Non-Members are welcome to visit!\n\n	\n\n	Chamber Leads Groups generate business opportunities by providing a structured environment where members may pass qualified sales leads in a non-competitive and mutually supportive manner.\n\n	Belonging to a Chamber Leads Group may significantly increase your sales efforts\, since group members have the incentive to become salespersons for each other's products and services. Members within the group become a marketing force for each other. This mutually supportive environment is what makes a Chamber Leads Group so powerful.\n\n	There's a Leads Group that meets each weekday\, at convenient times and locations around the Broomfield Area. Generally only one business category is allowed to participate in each group\, giving you exclusive access to a whole network of business associates in a friendly setting.\n\n	\n\n	Contact this group's moderator before attending: Stacy Logay at 303-901-1324
X-ALT-DESC;FMTTYPE=text/html:<p>\n	<span style="font-size: 16px"><strong><span style="font-size: 16px"><strong><span style="font-size: 16px"><strong><span style="color: #0000cd">We meet for 1 hour every&nbsp\;Friday at Runway Grill at 8:00am.<br />\n	PLEASE JOIN US...Members and Non-Members are welcome to visit!</span></strong></span></strong></span><br />\n	<br />\n	Chamber Leads Groups</strong> generate business opportunities by providing a structured environment where members may pass qualified sales leads in a non-competitive and mutually supportive manner.</span></p>\n<p>\n	<span style="font-size: 16px"><strong>Belonging to a Chamber Leads Group</strong> may significantly increase your sales efforts\, since group members have the incentive to become salespersons for each other&#39\;s products and services. Members within the group become a marketing force for each other. This mutually supportive environment is what makes a Chamber Leads Group so powerful.</span></p>\n<p>\n	<span style="font-size: 16px"><strong>There&#39\;s a Leads Group that meets each weekday\,</strong> at convenient times and locations around the Broomfield Area. Generally only one business category is allowed to participate in each group\, giving you exclusive access to a whole network of business associates in a friendly setting.<br />\n	<br />\n	Contact this group&#39\;s moderator before attending: Stacy Logay at 303-901-1324</span></p>\n
LOCATION:Runway Grill 11705 Airport Way Broomfield\, CO 80021
UID:e.641.2528
SEQUENCE:3
DTSTAMP:20260420T050525Z
URL:http://business.broomfieldchamber.com/events/details/friday-tgif-leads-group-08-19-2011-2528
END:VEVENT

END:VCALENDAR
