BEGIN:VCALENDAR
VERSION:2.0
PRODID:-//ChamberMaster//Event Calendar 2.0//EN
METHOD:PUBLISH
X-PUBLISHED-TTL:P3D
REFRESH-INTERVAL:P3D
CALSCALE:GREGORIAN
BEGIN:VEVENT
DTSTART:20110813T163000Z
DTEND:20110814T013000Z
X-MICROSOFT-CDO-ALLDAYEVENT:FALSE
SUMMARY:'Friends of Becky Peterson' Memorial Golf Tournament and Culinary Festival
DESCRIPTION:We are honored to be hosting our fourth annual golf tournament in memory of Becky Peterson. All proceeds will go to the Rebecca Peterson Memorial Scholarship Fund\, which gifts scholarships to exceptional students of Broomfield High School in the Pro-Start Program\, of which Becky was a passionate culinary arts student.\n\nThe event will include breakfast specially prepared by students of Broomfield High School along with their mentor\, Chef Bob Holloway\, range balls\, 18 holes of golf with cart\, and a steak dinner and awards ceremony immediately following play.  Breakfast\, check in and range balls begin at 10:30am. Tournament will be a 4-person scramble and will begin at 12:00 noon with a shot-gun start.  If you do not have a foursome\, you will be paired up.\n\nRegistration deadline is July 31\, 2011.\n\nWe hope you will join us in this memorial event\, as we remember and celebrate our friend\, Becky and thank you for your support of the Rebecca Peterson Memorial Scholarship Fund.
X-ALT-DESC;FMTTYPE=text/html:We are honored to be hosting our fourth annual golf tournament in memory of Becky Peterson. All proceeds will go to the Rebecca Peterson Memorial Scholarship Fund\, which gifts scholarships to exceptional students of Broomfield High School in the Pro-Start Program\, of which Becky was a passionate culinary arts student.<br />\nThe event will include breakfast specially prepared by students of Broomfield High School along with their mentor\, Chef Bob Holloway\, range balls\, 18 holes of golf with cart\, and a steak dinner and awards ceremony immediately following play.&nbsp\; Breakfast\, check in and range balls begin at 10:30am. Tournament will be a 4-person scramble and will begin at 12:00 noon with a shot-gun start.&nbsp\; If you do not have a foursome\, you will be paired up.<br />\nRegistration deadline is July 31\, 2011.<br />\nWe hope you will join us in this memorial event\, as we remember and celebrate our friend\, Becky and thank you for your support of the Rebecca Peterson Memorial Scholarship Fund.
LOCATION:Eagle Trace Golf Club 1200 Clubhouse Drive Broomfield\, CO
UID:e.641.1715
SEQUENCE:3
DTSTAMP:20260420T051208Z
URL:http://business.broomfieldchamber.com/events/details/friends-of-becky-peterson-memorial-golf-tournament-and-culinary-festival-08-13-2011-1715
END:VEVENT

END:VCALENDAR
