BEGIN:VCALENDAR
VERSION:2.0
PRODID:-//ChamberMaster//Event Calendar 2.0//EN
METHOD:PUBLISH
X-PUBLISHED-TTL:P3D
REFRESH-INTERVAL:P3D
CALSCALE:GREGORIAN
BEGIN:VEVENT
DTSTART;VALUE=DATE:20110211
DTEND;VALUE=DATE:20110212
TRANSP:TRANSPARENT
X-MICROSOFT-CDO-ALLDAYEVENT:TRUE
SUMMARY:Furthur Concert
DESCRIPTION:www.furthur.net
X-ALT-DESC;FMTTYPE=text/html:www.furthur.net
LOCATION:1STBANK Center
UID:e.641.1256
SEQUENCE:3
DTSTAMP:20260420T124947Z
URL:http://business.broomfieldchamber.com/events/details/furthur-concert-02-11-2011-1256
END:VEVENT

END:VCALENDAR
