BEGIN:VCALENDAR
VERSION:2.0
PRODID:-//ChamberMaster//Event Calendar 2.0//EN
METHOD:PUBLISH
X-PUBLISHED-TTL:P3D
REFRESH-INTERVAL:P3D
CALSCALE:GREGORIAN
BEGIN:VEVENT
DTSTART:20120413T150000Z
DTEND:20120413T160000Z
X-MICROSOFT-CDO-ALLDAYEVENT:FALSE
SUMMARY:Fusion Fit class at Custom Made Fitness\, LLC
DESCRIPTION:This is a six week high energy Fusion Fit class that combines  a variety of music and cardio . This class teaches basic dance steps that will increase your heart rate and burn calories while having fun! . Please bring hard soled shoes for dance moves
X-ALT-DESC;FMTTYPE=text/html:This is a six week high energy&nbsp\;Fusion Fit class that combines&nbsp\; a variety of music and cardio . This class teaches basic&nbsp\;dance steps that will increase your heart rate and burn calories while having fun! . Please bring hard soled shoes for dance moves
LOCATION:8120 Sheridan Blvd A-102\, Westminster\, CO 80003
UID:e.641.3924
SEQUENCE:3
DTSTAMP:20260419T162429Z
URL:http://business.broomfieldchamber.com/events/details/fusion-fit-class-at-custom-made-fitness-llc-04-13-2012-3924
END:VEVENT

END:VCALENDAR
