BEGIN:VCALENDAR
VERSION:2.0
PRODID:-//ChamberMaster//Event Calendar 2.0//EN
METHOD:PUBLISH
X-PUBLISHED-TTL:P3D
REFRESH-INTERVAL:P3D
CALSCALE:GREGORIAN
BEGIN:VEVENT
DTSTART:20100716T130000Z
DTEND:20100716T190000Z
X-MICROSOFT-CDO-ALLDAYEVENT:FALSE
SUMMARY:Garage & Hot Dog Sales Fundraiser for Ballet Nouveau Colorado
DESCRIPTION:Come support BNC and help them reach their fundraising goal! There will be hot dogs and great treasures at low prices. \n\n\n\nBNC is a nonprofit organization\, our goal is to provide educational and professional programming to the community. \n\nThis year Ballet Nouveau Colorado has: \n\n? Taught over 300 dance students at the School of BNC \n\n? Drew more than 9\,000 attendees to professional performances \n\n? Provided educational programming to more than 20\,000 underserved individuals in Metro Denver \n\n\n\nTo learn more or to make a donation go to\, www.bncdance.com
X-ALT-DESC;FMTTYPE=text/html:Come support BNC and help them reach their fundraising goal! There will be hot dogs and great treasures at low prices. \n<br>\n<br>BNC is a nonprofit organization\, our goal is to provide educational and professional programming to the community. \n<br>This year Ballet Nouveau Colorado has: \n<br>? Taught over 300 dance students at the School of BNC \n<br>? Drew more than 9\,000 attendees to professional performances \n<br>? Provided educational programming to more than 20\,000 underserved individuals in Metro Denver \n<br>\n<br>To learn more or to make a donation go to\, www.bncdance.com 
LOCATION:3223 W. 11th Ave. Dr. Broomfield\, CO 80020
UID:e.641.1124
SEQUENCE:3
DTSTAMP:20260420T233541Z
URL:http://business.broomfieldchamber.com/events/details/garage-hot-dog-sales-fundraiser-for-ballet-nouveau-colorado-07-16-2010-1124
END:VEVENT

END:VCALENDAR
