BEGIN:VCALENDAR
VERSION:2.0
PRODID:-//ChamberMaster//Event Calendar 2.0//EN
METHOD:PUBLISH
X-PUBLISHED-TTL:P3D
REFRESH-INTERVAL:P3D
CALSCALE:GREGORIAN
BEGIN:VEVENT
DTSTART:20101127T160000Z
DTEND:20101127T180000Z
X-MICROSOFT-CDO-ALLDAYEVENT:FALSE
SUMMARY:Generational Breakfast with Santa
DESCRIPTION:Generational Breakfast with Santa.  Free family photo with Santa ? Cookie decorating station ? Climate controlled parking garage ? Prize for the most generations present - $25 per family [up to 6 people]\, includes tax and gratuity - $5.00 will be donated to FISH\, Inc. (food bank in Broomfield).
X-ALT-DESC;FMTTYPE=text/html:Generational Breakfast with Santa.  Free family photo with Santa ? Cookie decorating station ? Climate controlled parking garage ? Prize for the most generations present - $25 per family [up to 6 people]\, includes tax and gratuity - $5.00 will be donated to FISH\, Inc. (food bank in Broomfield).
LOCATION:Stratford at Flatirons\, 400 Summit Blvd\, Broomfield 80021
UID:e.641.1247
SEQUENCE:3
DTSTAMP:20260420T173221Z
URL:http://business.broomfieldchamber.com/events/details/generational-breakfast-with-santa-11-27-2010-1247
END:VEVENT

END:VCALENDAR
