BEGIN:VCALENDAR
VERSION:2.0
PRODID:-//ChamberMaster//Event Calendar 2.0//EN
METHOD:PUBLISH
X-PUBLISHED-TTL:P3D
REFRESH-INTERVAL:P3D
CALSCALE:GREGORIAN
BEGIN:VEVENT
DTSTART:20120215T163000Z
DTEND:20120215T183000Z
X-MICROSOFT-CDO-ALLDAYEVENT:FALSE
SUMMARY:Getting the Most from Windows 7
DESCRIPTION:Are you new to Windows 7 or thinking about upgrading to Windows 7?  This class was designed for you.  Come learn about some of the new and enhanced features of Windows 7 in a classroom where you will get hands on experience on a computer as we go through the features. \n\n	\n\n	Please plan to arrive 15 minutes early to get settled into your seat before we start at 9:30.
X-ALT-DESC;FMTTYPE=text/html:<p>\n	Are you new to Windows 7 or thinking about upgrading to Windows 7?&nbsp\; This class was designed for you.&nbsp\; Come learn about some of the new and enhanced features of Windows 7 in a classroom where you will&nbsp\;get hands on&nbsp\;experience on a computer as we go through the features.&nbsp\;<br />\n	<br />\n	Please plan to arrive 15 minutes early to get settled into your seat before we start at 9:30.</p>\n
LOCATION:7130 W 117th Ave\, D-2
UID:e.641.3230
SEQUENCE:3
DTSTAMP:20260419T193010Z
URL:http://business.broomfieldchamber.com/events/details/getting-the-most-from-windows-7-02-15-2012-3230
END:VEVENT

END:VCALENDAR
