BEGIN:VCALENDAR
VERSION:2.0
PRODID:-//ChamberMaster//Event Calendar 2.0//EN
METHOD:PUBLISH
X-PUBLISHED-TTL:P3D
REFRESH-INTERVAL:P3D
CALSCALE:GREGORIAN
BEGIN:VEVENT
DTSTART:20120310T020000Z
DTEND:20120310T040000Z
X-MICROSOFT-CDO-ALLDAYEVENT:FALSE
SUMMARY:Gina Razon-Mezzo Soprano
DESCRIPTION:Cultural Affairs presents Mezzo Soprano\, Gina Razon Friday\, March 9\, 2012 at 7pm in the Broomfield Auditorium. An Evening with a Diva is a concert featuring local Mezzo Soprano\, Gina Raz n offering traditional favorites from the operatic and broadway stages including selections from Carmen\, Anything Goes\, A Little Night Music\, Boheme\, Oklahoma and Madame Butterfly among others. Sassy\, sultry and playful\, this program of audience favorites is sure to delight.\n\n	Tickets: $10 Adults\, $5 Seniors and Students. Available at the Broomfield Auditorium Box Office Thursday 2-6pm\, Friday 2-5pm and Sunday 1-5pm or online at http://www.brownpapertickets.com/event/215389
X-ALT-DESC;FMTTYPE=text/html:<p>\n	Cultural Affairs presents Mezzo Soprano\, Gina Razon Friday\, March 9\, 2012 at 7pm in the Broomfield Auditorium. An Evening with a Diva is a concert featuring local Mezzo Soprano\, Gina Raz&oacute\;n offering traditional favorites from the operatic and broadway stages including selections from Carmen\, Anything Goes\, A Little Night Music\, Boheme\, Oklahoma and Madame Butterfly among others. Sassy\, sultry and playful\, this program of audience favorites is sure to delight.</p>\n<p>\n	Tickets: $10 Adults\, $5 Seniors and Students. Available at the Broomfield Auditorium Box Office Thursday 2-6pm\, Friday 2-5pm and Sunday 1-5pm or online at <a href="http://www.brownpapertickets.com/event/215389">http://www.brownpapertickets.com/event/215389</a></p>\n
LOCATION:Broomfield Auditorium
UID:e.641.3218
SEQUENCE:3
DTSTAMP:20260419T193259Z
URL:http://business.broomfieldchamber.com/events/details/gina-razon-mezzo-soprano-03-09-2012-3218
END:VEVENT

END:VCALENDAR
